{"text_format":"1","workbook":"xlsx","n_sheets":12,"sheets":["Check List PAPP","PSW - 4º Edição","RDimensionais","RMateriais","RDesempenho","Fluxo","MSALaboratório","MSAVisual","MSAMetrologia","EstCaractEspeciais","Dados Cota C1","Dados Cota C2"],"not_rendered":{"charts":2,"images":3,"macros":1,"external_links":1,"defined_names":22,"comments":0,"pivot_tables":0},"unopened":[],"bounds":{"document_bytes":16777216,"sheet_cells":100000,"rows_first":2000,"rows_last":500,"rows_between":2000,"halvings":0,"cell_chars":16384,"cell_head_chars":4096},"cells_cut":0,"cells_raw":0,"read":"whole","date_system":"1900"}

{"sheet":"Check List PAPP","index":0,"n_rows":85,"n_cols":6,"rows_kept":85,"cut":false,"hidden":false,"merged":[[8,4,8,7],[0,0,3,2],[4,1,4,7],[5,4,5,7],[6,4,6,7],[7,4,7,7],[20,4,20,7],[9,4,9,7],[10,1,10,7],[11,4,11,7],[12,4,12,7],[13,4,13,7],[14,1,14,7],[15,4,15,7],[16,4,16,7],[17,4,17,7],[18,4,18,7],[19,4,19,7],[33,4,33,7],[22,1,22,7],[23,4,23,7],[24,4,24,7],[25,4,25,7],[26,4,26,7],[27,4,27,7],[28,4,28,7],[29,4,29,7],[30,4,30,7],[31,1,31,7],[32,4,32,7],[45,4,45,7],[34,4,34,7],[35,4,35,7],[36,4,36,7],[37,4,37,7],[38,4,38,7],[39,4,39,7],[40,4,40,7],[41,1,41,7],[42,4,42,7],[43,4,43,7],[44,4,44,7],[57,4,57,7],[46,4,46,7],[47,4,47,7],[48,1,48,7],[49,4,49,7],[50,4,50,7],[51,1,51,7],[52,4,52,7],[53,4,53,7],[54,4,54,7],[55,1,55,7],[56,4,56,7],[69,4,69,7],[58,4,58,7],[59,4,59,7],[60,1,60,7],[61,4,61,7],[62,4,62,7],[63,4,63,7],[64,1,64,7],[65,4,65,7],[66,4,66,7],[67,1,67,7],[68,4,68,7],[76,4,76,7],[77,1,77,7],[78,4,78,7],[70,1,70,7],[71,4,71,7],[72,4,72,7],[73,4,73,7],[74,1,74,7],[75,4,75,7]]}
[" CHECK - LIST PARA ANÁLISE DE PPAP  ",null,null,"Cliente:"]
[null,null,null,"Código : "]
[null,null,null,"N.º Desenho  :"]
[null,null,null,"Data   :"]
[1,"CERTIFICADO DE SUBMISSÃO DA PEÇA"]
[null,"Pergunta","SIM","NÃO","Comentários / Ação Requerida"]
["1.1","As informações sobre o produto estão corretamente declaradas?  - nº da peça                                                                                                                                             - descrição                                                                                                                     - alteração / índice do desenho"]
["1.2","O peso da peça está declarado com 3 casas decimais após a virgula (0,000)?"]
["1.3","A razão de produção / 8 horas está declarada?"]
["1.4","As demais informações aplicáveis no Certificado de submissão estão corretamente declaradas?"]
[2,"FLUXOGRAMA DO PROCESSO"]
[null,"Pergunta","SIM","NÃO","Comentários / Ação Requerida"]
["2.1","As informações sobre o produto estão corretamente declaradas?                                                                                                                                                                                              - nº da peça                                                                                                                                             - descrição                                                                                                                     - alteração / índice do desenho"]
["2.2","O fluxo do processo contempla as etapas a partir do recebimento da matéria-prima até a Expedição. Ou à Auditoria de Produto (quando aplicável)"]
[3,"FMEA DO PROCESSO"]
[null,"Pergunta","SIM","NÃO","Comentários / Ação Requerida"]
["3.1","As informações sobre o produto estão corretamente declaradas?                                                                                                                                            - nº da peça                                                                                                                                             - descrição                                                                                                                     - alteração/ïndice do desenho"]
["3.2","O FMEA foi elaborado mantendo-se a mesma sequência de atividades declaradas no fluxo de processo ?"]
["3.3","As simbologias            estão declaradas?"]
["3.4","O FMEA contempla os estudos de dos modo de falhas para as etapas a partir do recebimento da matéria-prima até a Expedição. "]
["3.5","Foram designadas ações corretivas apropriadas para os números de prioridade de risco elevado? Nota: Quando o valor de ocorrência for > que 5 deve-se prover ações de melhoria e quando a severidade for >7 deve-se inserir a simbologia de característica crítica / significativa e ter ações."]
[]
[4,"PLANO DE CONTROLE"]
[null,"Pergunta","SIM","NÃO","Comentários / Ação Requerida"]
["4.1","As informações sobre o produto estão corretamente declaradas?  - nº da peça                                                                                                                                             - descrição                                                                                                                     - alteração/ïndice do desenho"]
["4.2","O Plano de Controle foi elaborado mantendo-se a mesma sequência de atividades declaradas no fluxo e FMEA de processo ?"]
["4.3","O Plano de Controle contempla controle  para as etapas a partir do recebimento da matéria-prima até a Expedição? Incluindo ensaios de Lay-out e Auditoria de Produto (quando aplicável)"]
["4.4","A resolucão dos equipamentos utilizados para o controle está declarada ?"]
["4.5","As simbologias            estão declaradas?"]
["4.6","Há controle para todas as características                e                      ?"]
["4.7","Está definido o controle dos parâmetros de processo da fabricação do produto?"]
[5,"RELATÓRIO DIMENSIONAL"]
[null,"Pergunta","SIM","NÃO","Comentários / Ação Requerida"]
["5.1","Há desenho Mapeado?"]
["5.2","As informações sobre o produto estão corretamente declaradas?  - nº da peça                                                                                                                                             - descrição                                                                                                                     - alteração / índice do desenho"]
["5.3","As especificações estão conforme desenho?"]
["5.4","As simbologias          estão declaradas?"]
["5.5","Os meio de medição utilizados estão declarados e são adequados para a verificação?"]
["5.6","Se o dimensional apresentado foi realizado por terceiros o mesmo é credenciado e/ou tem seus padrões rastreáveis?"]
["5.7","Os resultados mínimos e máximos estão declarados para todas as cavidades?"]
["5.8","Os resultados declarados estão conforme especificação?"]
[6,"RELATÓRIO DE MATERIAL E DESEMPENHO"]
[null,"Pergunta","SIM","NÃO","Comentários / Ação Requerida"]
[61,"As informações sobre o produto estão corretamente declaradas?  - nº da peça                                                                                                                                             - descrição                                                                                                                     - alteração/ïndice do desenho"]
["6.2","As especificações de material, montagem, ensaios fisicos e químicos, especificadas em desenho estão declaradas?"]
["6.3","Os métodos de teste ( norma, especificações do cliente) estão declaradas?"]
["6.4","Os resultados estão declarados?"]
["6.5","Pode ser comprovada a conformidade dos resultados com as especificações?"]
[7,"DISPOSITIVO DE TESTE E INSPEÇÃO"]
[null,"Pergunta","SIM","NÃO","Comentários / Ação Requerida"]
["7.1","Os dispositivos estão disponíveis e está pré estabelecida a sua calibração?"]
[8,"APROVAÇÃO DE COMPONENTES INTERNOS E PAPP DE SUBCONTRATADOS"]
[null,"Pergunta","SIM","NÃO","Comentários / Ação Requerida"]
["8.1","Os itens comprados já estão com o PAPP´s concluídos? Caso negativo, há uma aprovação interina? "]
["8.2","Estão todos os PAPP´s devidamente assinados?"]
[9,"ESTUDO INICIAL DE  PROCESSO  (CEP)"]
[null,"Pergunta","SIM","NÃO","Comentários / Ação Requerida"]
["9.1","Foram   submetidos   estudos   para   todas   as características                                                                                                                                                                                                                                                                                "]
["9.2","Foram submetidos estudos de todas as cavidades?"]
["9.3","Os resultados estão em conformidade com os requisitos do Manual do PPAP?"]
[10,"SISTEMA DE MEDIÇÃO ( MSA / R&R )"]
[null,"Pergunta","SIM","NÃO","Comentários / Ação Requerida"]
["10.1","Foram submetidos  os estudos de R&R para todos os equipamentos declarados no Plano de Controle?"]
["10.2","Os resultados dos estudo de R&R estão em conformidade com os requisitos do Manual de MSA?"]
[11,"EMBALAGEM E IDENTIFICAÇÃO"]
[null,"Pergunta","SIM","NÃO","Comentários / Ação Requerida"]
["11.1","Está declarado o acondiciomento no que tange: quantidade x volume x tipo de embalagem?"]
[12,"PEÇA PADRÃO"]
[null,"Pergunta","SIM","NÃO","Comentários / Ação Requerida"]
["12.1","Foram retidas e identificadas peça padrão da aprovação ? (02peças)"]
[13,"RUN @ RATE"]
[null,"Pergunta","SIM","NÃO","Comentários / Ação Requerida"]
["13.1","Foi realizado o levantamento de capacidade de fabricação, com formulário específico ?"]
["13.2","Os dados obtidos atigem o volume contratado ? Quando não, deve o fornecedor apresentar plano de ação para atingir o mesmo."]
[14,"DECLARAÇÃO DE SUBSTÂNCIAS RESTRITAS (RSMS)"]
["14.1","Os dados de substâncias restritas estão disponíveis ?"]
["14.2","Os dados foram inseridos no IMDS System ?"]
[15,"FERRAMENTAL"]
["15.1","Ficha de dados ( dimensões, demais caraterísticas )"]
[]
[]
[]
[]
[null,"Aprovado por:","Ass.:",null,null,"Data:"]
[null,"               (Nome legível / Cargo)"]

{"sheet":"PSW - 4º Edição","index":1,"n_rows":70,"n_cols":15,"rows_kept":70,"cut":false,"hidden":false,"merged":[[51,0,54,15],[69,0,69,1],[0,3,2,12],[0,13,2,15],[3,13,4,15],[8,14,8,15],[9,14,9,15]]}
[null,null,null,"Certificado de Submissão de Peça",null,null,null,null,null,null,null,null,null,"PPAP"]
[]
[]
[null,null,null,null,null,null,null,null,null,null,null,null,null,"001/16"]
[]
[null,null,null,null,null,null,null,null,null,null,null,null,null,"Revisão 0 de 07/08/15"]
["Nome da peça",null,null,null,"Pastilha do registro ramal",null,null,null,"Código do Cliente",null,null,null,"RR-1202/07"]
["Mostrado no desenho nº",null,null,null,null,"RR-1202/07",null,null,"Código do Fornecedor",null,null,null,"076"]
["Nível de alteração de engenharia",null,null,null,null,"07",null,null,null,null,null,null,null,"Data","2003-09-23"]
["Alterações adicionais de engenharia",null,null,null,null,"Nenhuma",null,null,null,null,null,null,null,"Data"]
["Auxiliar de verificação",null,null,null,"Nenhum",null,"Nível de alteração de engenharia",null,null,null,null,null,null,"Data"]
[]
["Propriedade da ferramenta",null,null,null,null,null,"REF:",null,null,"Nº pedido de compra"]
[]
["Regulamentação de segurança ou governamental?",null,null,null,null,null,null,null,null,"Peso da peça (kg)",null,null,null,5.0000000000000001E-4]
[]
["INFORMAÇÕES DO FORNECEDOR",null,null,null,null,null,null,null,"INFORMAÇÕES DE SUBMISSÃO DO CLIENTE"]
["Parolibor Ind. Art. Borracha Ltda."]
["Nome do fornecedor / Código",null,null,null,null,null,null,null,"Nome do cliente / Divisão"]
["Av. Riachuelo, 66 - Vila Conceição "]
["Rua",null,null,null,null,null,null,null,"Comprador / Código do comprador"]
["Diadema",null,"SP",null,"09912-190",null,"Brasil"]
["Cidade",null,"Estado",null,"CEP",null,"País",null,"Aplicação"]
[]
["REPORTE DE MATERIAIS"]
["As informações sobre substâncias perigosas requisitadas pelo cliente foram relatadas?"]
[]
[null,null,null,null,"Submentido via IMDS ou outro formato do cliente:"]
[]
["As peças poliméricas estão identificadas com os códigos de marcação apropriados da ISO?"]
[]
["RAZÃO PARA SUBMISSÃO"]
[]
[]
[]
[]
[]
[]
["NÍVEL DE SUBMISSÃO REQUERIDO (Marque pelo menos um)"]
[]
[]
[]
[]
[]
[]
["RESULTADOS DA SUBMISSÃO"]
["Os resultados de"]
["Esses resultados atendem todas as especificações e requisitos de desenho?"]
["Moldes  /  Cavidades  /  Processo de produção:",null,null,null,null,null,"2 Moldes / 198 cavidades / Transferência"]
[]
["DECLARAÇÃO"]
["Afirmo que as amostras representadas por este certificado são representativas de nossas peças, as quais foram fabricadas através de um processo que atende todos os requisitos da 4º Edição do manual Processo de Aprovação de Peça de Produção. Além disso, afirmo que essas amostras foram produzidas na razão de produção  de 19000 peças / 4 horas. Certifico também que a evidência documentada de tal conformidade está arquivada e disponível para análise crítica. Eu anotei quaisquer desvios desta declaração abaixo."]
[]
[]
[]
["EXPLICAÇÃO / COMENTÁRIOS:"]
["Cada ferramenta do cliente está corretamente etiquetada e numerada?"]
[]
["Assinatura autorizada da organização",null,null,null,null,null,null,null,null,null,null,null,"Data"]
["Nome","Celso Araújo",null,null,null,null,null,null,null,null,null,null,"Telefone","+55 (11) 4056-1495"]
["Cargo","Gerente de Qualidade",null,null,null,null,null,null,null,null,null,null,"E-mail","celso@parolibor.com.br"]
[]
["PARA USO SOMENTE DO CLIENTE (SE APLICÁVEL)"]
["Disposição do certificado de PPAP:"]
[]
["Assinatura do Cliente",null,null,null,null,null,null,null,null,null,null,null,"Data"]
[]
["Nome legível",null,null,null,null,null,null,null,"Nº de rastreabilidade do cliente (opcional)"]
[]
["CFG-1001",null,"MARCH",2006]

{"sheet":"RDimensionais","index":2,"n_rows":75,"n_cols":16,"rows_kept":75,"cut":false,"hidden":false,"merged":[[74,6,74,7],[74,8,74,9],[74,10,74,12],[74,13,74,15],[68,8,69,11],[71,7,71,15],[73,8,73,9],[73,10,73,12],[73,13,73,15],[64,0,64,1],[65,0,65,1],[69,0,69,1],[67,5,67,7],[67,8,67,11],[67,13,67,15],[59,1,59,4],[59,7,59,8],[59,10,59,13],[60,1,60,4],[60,7,60,8],[60,10,60,13],[57,1,57,4],[57,7,57,8],[57,10,57,13],[58,1,58,4],[58,7,58,8],[58,10,58,13],[55,1,55,4],[55,7,55,8],[55,10,55,13],[56,1,56,4],[56,7,56,8],[56,10,56,13],[53,1,53,4],[53,7,53,8],[53,10,53,13],[54,1,54,4],[54,7,54,8],[54,10,54,13],[51,1,51,4],[51,7,51,8],[51,10,51,13],[52,1,52,4],[52,7,52,8],[52,10,52,13],[49,1,49,4],[49,7,49,8],[49,10,49,13],[50,1,50,4],[50,7,50,8],[50,10,50,13],[47,1,47,4],[47,7,47,8],[47,10,47,13],[48,1,48,4],[48,7,48,8],[48,10,48,13],[45,1,45,4],[45,7,45,8],[45,10,45,13],[46,1,46,4],[46,7,46,8],[46,10,46,13],[43,1,43,4],[43,7,43,8],[43,10,43,13],[44,1,44,4],[44,7,44,8],[44,10,44,13],[41,1,41,4],[41,7,41,8],[41,10,41,13],[42,1,42,4],[42,7,42,8],[42,10,42,13],[39,1,39,4],[39,7,39,8],[39,10,39,13],[40,1,40,4],[40,7,40,8],[40,10,40,13],[37,1,37,4],[37,7,37,8],[37,10,37,13],[38,1,38,4],[38,7,38,8],[38,10,38,13],[35,1,35,4],[35,7,35,8],[35,10,35,13],[36,1,36,4],[36,7,36,8],[36,10,36,13],[33,1,33,4],[33,7,33,8],[33,10,33,13],[34,1,34,4],[34,7,34,8],[34,10,34,13],[31,1,31,4],[31,7,31,8],[31,10,31,13],[32,1,32,4],[32,7,32,8],[32,10,32,13],[29,1,29,4],[29,7,29,8],[29,10,29,13],[30,1,30,4],[30,7,30,8],[30,10,30,13],[27,1,27,4],[27,7,27,8],[27,10,27,13],[28,1,28,4],[28,7,28,8],[28,10,28,13],[25,1,25,4],[25,7,25,8],[25,10,25,13],[26,1,26,4],[26,7,26,8],[26,10,26,13],[23,1,23,4],[23,7,23,8],[23,10,23,13],[24,1,24,4],[24,7,24,8],[24,10,24,13],[21,1,21,4],[21,7,21,8],[21,10,21,13],[22,1,22,4],[22,7,22,8],[22,10,22,13],[19,1,19,4],[19,7,19,8],[19,10,19,13],[20,1,20,4],[20,7,20,8],[20,10,20,13],[17,1,17,4],[17,7,17,8],[17,10,17,13],[18,1,18,4],[18,7,18,8],[18,10,18,13],[15,1,15,4],[15,7,15,8],[15,10,15,13],[16,1,16,4],[16,7,16,8],[16,10,16,13],[11,14,12,14],[11,15,12,15],[13,1,13,4],[13,7,13,8],[13,10,13,13],[14,1,14,4],[14,7,14,8],[14,10,14,13],[9,0,9,4],[9,5,9,7],[9,8,9,12],[9,13,9,15],[11,0,12,0],[11,1,12,4],[11,5,12,6],[11,7,12,8],[11,9,12,9],[11,10,12,13],[7,0,7,4],[7,5,7,7],[7,8,7,12],[7,13,7,15],[8,0,8,4],[8,5,8,7],[8,8,8,12],[8,13,8,15],[0,3,2,12],[0,13,2,15],[3,3,4,12],[3,13,4,15],[6,0,6,4],[6,5,6,7],[6,8,6,12],[6,13,6,15]]}
[null,null,null,"Aprovação de Peça de Produção",null,null,null,null,null,null,null,null,null,"PPAP"]
[]
[]
[null,null,null,"Resultados de ensaios de desempenho",null,null,null,null,null,null,null,null,null,{"$f":"TRANSPOSE('PSW - 4º Edição'!N4:P5)","v":"001/16"}]
[]
[null,null,null,null,null,null,null,null,null,null,null,null,null,{"$f":"CONCATENATE('PSW - 4º Edição'!N6)","v":"Revisão 0 de 07/08/15"}]
["ORGANIZAÇÃO:",null,null,null,null,"Parolibor",null,null,"Nº PEÇA:",null,null,null,null,{"$f":"'PSW - 4º Edição'!M7","v":"RR-1202/07"}]
["CÓDIGO DO FORNECEDOR:",null,null,null,null,{"$f":"'PSW - 4º Edição'!M8","v":"076"},null,null,"NOME DA PEÇA: ",null,null,null,null,{"$f":"'PSW - 4º Edição'!E7","v":"Pastilha do registro ramal"}]
["LOCAL DE INSPEÇÃO:",null,null,null,null,"Parolibor",null,null,"NÍVEL DE ALTERAÇÃO DO PROJETO:",null,null,null,null,{"$f":"TRANSPOSE('PSW - 4º Edição'!F9)","v":"07"}]
[null,null,null,null,null,null,null,null,"DOC. ALTERAÇÃO DE ENGENHARIA:"]
[]
["REF.","ENSAIO / DIMENSÃO",null,null,null,"ESPECIFICAÇÃO",null,"DATA ENSAIO",null,"QUANT. ENSAIO","RESULTADOS DO FORNECEDOR",null,null,null,"OK","NÃO OK"]
[]
[]
[]
[]
[]
[]
[]
[]
[]
[]
[]
[]
[]
[]
[]
[]
[]
[]
[]
[]
[]
[]
[]
[]
[]
[]
[]
[]
[]
[]
[]
[]
[]
[]
[]
[]
[]
[]
[]
[]
[]
[]
[]
[]
[]
[]
[]
[]
[]
[]
[null,null,null,null,null,"Comentários: "]
[]
[null,null,null,null,null,"NC: Não controlado pelo fornecedor. Deve ser atendido pelo cliente."]
[null,null,null,null,null,"Declarações de conformidade em branco são inaceitáveis para quaisquer resultado de ensaio."]
[]
[null,null,null,null,null,"ASSINATURA",null,null,"CARGO",null,null,null,null,"DATA"]
[null,null,null,null,null,null,null,null,"Gerente da Qualidade"]
["CFG-1003",null,"MARCH",2006]
[]
[]
[null,null,"Não alterar formatos para evitar distoção na impressão"]
[null,null,"Altura da linha: 12"]
[null,null,"Largura da coluna: 5,5"]

{"sheet":"RMateriais","index":3,"n_rows":75,"n_cols":16,"rows_kept":75,"cut":false,"hidden":false,"merged":[[74,6,74,7],[74,8,74,9],[74,10,74,12],[74,13,74,15],[13,1,13,15],[23,1,23,15],[27,1,27,15],[32,1,32,15],[37,1,37,15],[40,1,40,15],[68,8,69,11],[71,7,71,15],[73,8,73,9],[73,10,73,12],[73,13,73,15],[64,0,64,1],[65,0,65,1],[69,0,69,1],[67,5,67,7],[67,8,67,11],[67,13,67,15],[59,1,59,4],[59,7,59,8],[59,10,59,13],[60,1,60,4],[60,7,60,8],[60,10,60,13],[57,1,57,4],[57,7,57,8],[57,10,57,13],[58,1,58,4],[58,7,58,8],[58,10,58,13],[55,1,55,4],[55,7,55,8],[55,10,55,13],[56,1,56,4],[56,7,56,8],[56,10,56,13],[53,1,53,4],[53,7,53,8],[53,10,53,13],[54,1,54,4],[54,7,54,8],[54,10,54,13],[51,1,51,4],[51,7,51,8],[51,10,51,13],[52,1,52,4],[52,7,52,8],[52,10,52,13],[51,5,51,6],[49,1,49,4],[49,7,49,8],[49,10,49,13],[50,1,50,15],[47,1,47,4],[47,7,47,8],[47,10,47,13],[48,1,48,4],[48,7,48,8],[48,10,48,13],[45,1,45,4],[45,7,45,8],[45,10,45,13],[46,1,46,15],[43,1,43,4],[43,7,43,8],[43,10,43,13],[44,1,44,4],[44,7,44,8],[44,10,44,13],[41,1,41,4],[41,7,41,8],[41,10,41,13],[42,1,42,15],[39,1,39,4],[39,7,39,8],[39,10,39,13],[38,1,38,4],[38,7,38,8],[38,10,38,13],[35,1,35,4],[35,7,35,8],[35,10,35,13],[36,1,36,4],[36,7,36,8],[36,10,36,13],[33,1,33,4],[33,7,33,8],[33,10,33,13],[34,1,34,4],[34,7,34,8],[34,10,34,13],[31,1,31,4],[31,7,31,8],[31,10,31,13],[29,1,29,4],[29,7,29,8],[29,10,29,13],[30,1,30,4],[30,7,30,8],[30,10,30,13],[28,1,28,4],[28,7,28,8],[28,10,28,13],[25,1,25,4],[25,7,25,8],[25,10,25,13],[26,1,26,4],[26,7,26,8],[26,10,26,13],[24,1,24,4],[24,7,24,8],[24,10,24,13],[21,1,21,4],[21,7,21,8],[21,10,21,13],[22,1,22,4],[22,7,22,8],[22,10,22,13],[19,1,19,4],[19,7,19,8],[19,10,19,13],[20,1,20,4],[20,7,20,8],[20,10,20,13],[22,5,22,6],[20,5,20,6],[19,5,19,6],[17,1,17,4],[17,7,17,8],[17,10,17,13],[18,1,18,4],[18,7,18,8],[18,10,18,13],[15,1,15,4],[15,7,15,8],[15,10,15,13],[16,1,16,4],[16,7,16,8],[16,10,16,13],[16,5,16,6],[17,5,17,6],[18,5,18,6],[11,14,12,14],[11,15,12,15],[14,1,14,4],[14,7,14,8],[14,10,14,13],[9,0,9,4],[9,5,9,7],[9,8,9,12],[9,13,9,15],[11,0,12,0],[11,1,12,4],[11,5,12,6],[11,7,12,8],[11,9,12,9],[11,10,12,13],[14,5,14,6],[7,0,7,4],[7,5,7,7],[7,8,7,12],[7,13,7,15],[8,0,8,4],[8,5,8,7],[8,8,8,12],[8,13,8,15],[0,3,2,12],[0,13,2,15],[3,3,4,12],[3,13,4,15],[6,0,6,4],[6,5,6,7],[6,8,6,12],[6,13,6,15],[5,13,5,15]]}
[null,null,null,"Aprovação de Peça de Produção",null,null,null,null,null,null,null,null,null,"PPAP"]
[]
[]
[null,null,null,"Resultados de ensaios materiais e funcionais",null,null,null,null,null,null,null,null,null,{"$f":"TRANSPOSE('PSW - 4º Edição'!N4:P5)","v":"001/16"}]
[]
[null,null,null,null,null,null,null,null,null,null,null,null,null,{"$f":"CONCATENATE('PSW - 4º Edição'!N6)","v":"Revisão 0 de 07/08/15"}]
["ORGANIZAÇÃO:",null,null,null,null,"Parolibor",null,null,"Nº PEÇA:",null,null,null,null,{"$f":"TRANSPOSE('PSW - 4º Edição'!M7)","v":"RR-1202/07"}]
["CÓDIGO DO FORNECEDOR:",null,null,null,null,{"$f":"TRANSPOSE('PSW - 4º Edição'!M8)","v":"076"},null,null,"NOME DA PEÇA: ",null,null,null,null,{"$f":"TRANSPOSE('PSW - 4º Edição'!E7)","v":"Pastilha do registro ramal"}]
["LOCAL DE INSPEÇÃO:",null,null,null,null,"Parolibor",null,null,"NÍVEL DE ALTERAÇÃO DO PROJETO:",null,null,null,null,{"$f":"TRANSPOSE('PSW - 4º Edição'!F9)","v":"07"}]
[null,null,null,null,null,null,null,null,"DOC. ALTERAÇÃO DE ENGENHARIA:"]
[]
["REF.","ENSAIO / DIMENSÃO",null,null,null,"ESPECIFICAÇÃO",null,"DATA ENSAIO",null,"QUANT. ENSAIO","RESULTADOS DO FORNECEDOR",null,null,null,"OK","NÃO OK"]
[]
[null,"PROPRIEDADES ORIGINAIS"]
["M1","Material",null,null,null,"NE",null,"2015-07-07",null,1,"NBR",null,null,null,"ü"]
["M2","Dureza (ShA)",null,null,null,73,79,"2015-07-07",null,5,76,null,null,null,"ü"]
["M3","Tensão de ruptura (MPa)",null,null,null,"NE",null,"2015-07-07",null,5,16.2,null,null,null,"ü"]
["M4","Alongamento de ruptura (%)",null,null,null,"NE",null,"2015-07-07",null,5,302,null,null,null,"ü"]
["M5","DPC - 22h @ 100°C (%)",null,null,null,"20 (MÁX)",null,"2014-09-19",null,2,14,null,null,null,"ü"]
["M6","Tensão de rasgo (kgf/cm)",null,null,null,"40 (MÍN)",null,"2014-08-27",null,5,46,null,null,null,"ü"]
["M7","Densidade (g/cm³)",null,null,null,"NE",null,"2015-07-07",null,3,1.2669999999999999,null,null,null,"ü"]
[]
[]
["M8","RES. ENVELHECIMENTO - EXPOSIÇÃO 70h @ 100°C "]
[null,"Δ Dureza (Shore A)",null,null,null,-15,15,"2014-09-19",null,3,4,null,null,null,"ü"]
[null,"Tensão de ruptura (MPa)",null,null,null,-20,20,"2014-09-19",null,5,2,null,null,null,"ü"]
[null,"Alongamento de ruptura (%)",null,null,null,-40,40,"2014-09-19",null,5,-35,null,null,null,"ü"]
["M9","RES. ÓLEO IRM 903 - EXPOSIÇÃO 70h @ 100°C "]
[null,"Δ Dureza (Shore A)",null,null,null,-5,5,"2014-09-19",null,3,-3,null,null,null,"ü"]
[null,"Δ Volume (%)",null,null,null,0,15,"2014-09-19",null,3,3,null,null,null,"ü"]
[null,"Δ Tensão de ruptura (%)",null,null,null,-25,25,"2014-09-19",null,5,-10,null,null,null,"ü"]
[null,"Δ Alongamento de ruptura (%)",null,null,null,-45,45,"2014-09-19",null,5,0,null,null,null,"ü"]
["M10","RES. ÓLEO ASTM#1 - EXPOSIÇÃO 70h @ 100°C "]
[null,"Δ Dureza (Shore A)",null,null,null,-5,10,"2014-09-19",null,3,5,null,null,null,"ü"]
[null,"Δ Volume (%)",null,null,null,-10,5,"2014-09-19",null,3,-3,null,null,null,"ü"]
[null,"Δ Tensão de ruptura (%)",null,null,null,-25,25,"2014-09-19",null,5,7,null,null,null,"ü"]
[null,"Δ Alongamento de ruptura (%)",null,null,null,-45,45,"2014-09-19",null,5,-40,null,null,null,"ü"]
["M11","RES. ÁGUA - EXPOSIÇÃO 70h @ 100°C "]
[null,"Δ Dureza (Shore A)",null,null,null,-10,10,"2014-09-19",null,3,1,null,null,null,"ü"]
[null,"Δ Volume (%)",null,null,null,-15,15,"2014-09-19",null,3,0,null,null,null,"ü"]
["M20","REOMETRIA - OSCILAÇÃO 1° - 100cpm @ 175°C"]
[null,"TS50 (min)",null,null,null,0.4,2,"2015-07-07",null,2,1.2,null,null,null,"ü"]
["M30","RES. BUTANO LÍQ. - EXPOSIÇÃO 70h @ Tamb."]
[null,"Δ Dureza (Shore A)",null,null,null,-5,5,"2014-09-02",null,5,-3,null,null,null,"ü"]
[null,"Δ Volume (%)",null,null,null,-5,5,"2014-09-02",null,5,1,null,null,null,"ü"]
[null,"Δ Massa (%)",null,null,null,-5,5,"2014-09-02",null,5,2,null,null,null,"ü"]
["M31","RES. BUTANO LÍQ. - SECAGEM 24h @ 70°C"]
[null,"Δ Dureza (Shore A)",null,null,null,-5,5,"2014-09-02",null,5,1,null,null,null,"ü"]
[null,"Δ Volume (%)",null,null,null,-5,5,"2014-09-02",null,5,-1,null,null,null,"ü"]
[null,"Δ Massa (%)",null,null,null,-5,5,"2014-09-02",null,5,-1,null,null,null,"ü"]
["F1","APARÊNCIA - SEM DEFORMAÇÃO, FALHA, QUEBRA, OLEOSIDADE OU EXCESSO DE REBARBA"]
[null,"Visual",null,null,null,"PASSA",null,"2015-07-07",null,198,"PASSA",null,null,null,"ü"]
[]
[]
[]
[]
[]
[]
[]
[]
[]
[]
[null,null,null,null,null,"Comentários: "]
[]
[null,null,null,null,null,"NC: Não controlado pelo fornecedor. Deve ser atendido pelo cliente."]
[null,null,null,null,null,"Declarações de conformidade em branco são inaceitáveis para quaisquer resultado de ensaio."]
[]
[null,null,null,null,null,"ASSINATURA",null,null,"CARGO",null,null,null,null,"DATA"]
[null,null,null,null,null,null,null,null,"Responsável Técnico"]
["CFG-1004",null,"MARCH",2006]
[]
[]
[null,null,"Não alterar formatos para evitar distoção na impressão"]
[null,null,"Altura da linha: 12"]
[null,null,"Largura da coluna: 5,5"]

{"sheet":"RDesempenho","index":4,"n_rows":75,"n_cols":16,"rows_kept":75,"cut":false,"hidden":false,"merged":[[60,1,60,4],[60,7,60,8],[60,10,60,13],[58,1,58,4],[58,7,58,8],[58,10,58,13],[59,1,59,4],[59,7,59,8],[59,10,59,13],[56,1,56,4],[56,7,56,8],[56,10,56,13],[57,1,57,4],[57,7,57,8],[57,10,57,13],[54,1,54,4],[54,7,54,8],[54,10,54,13],[55,1,55,4],[55,7,55,8],[55,10,55,13],[52,1,52,4],[52,7,52,8],[52,10,52,13],[53,1,53,4],[53,7,53,8],[53,10,53,13],[50,1,50,4],[50,7,50,8],[50,10,50,13],[51,1,51,4],[51,7,51,8],[51,10,51,13],[48,1,48,4],[48,7,48,8],[48,10,48,13],[49,1,49,4],[49,7,49,8],[49,10,49,13],[46,1,46,4],[46,7,46,8],[46,10,46,13],[47,1,47,4],[47,7,47,8],[47,10,47,13],[44,1,44,4],[44,7,44,8],[44,10,44,13],[45,1,45,4],[45,7,45,8],[45,10,45,13],[42,1,42,4],[42,7,42,8],[42,10,42,13],[43,1,43,4],[43,7,43,8],[43,10,43,13],[40,1,40,4],[40,7,40,8],[40,10,40,13],[41,1,41,4],[41,7,41,8],[41,10,41,13],[38,1,38,4],[38,7,38,8],[38,10,38,13],[39,1,39,4],[39,7,39,8],[39,10,39,13],[36,1,36,4],[36,7,36,8],[36,10,36,13],[37,1,37,4],[37,7,37,8],[37,10,37,13],[34,1,34,4],[34,7,34,8],[34,10,34,13],[35,1,35,4],[35,7,35,8],[35,10,35,13],[32,1,32,4],[32,7,32,8],[32,10,32,13],[33,1,33,4],[33,7,33,8],[33,10,33,13],[30,1,30,4],[30,7,30,8],[30,10,30,13],[31,1,31,4],[31,7,31,8],[31,10,31,13],[28,1,28,4],[28,7,28,8],[28,10,28,13],[29,1,29,4],[29,7,29,8],[29,10,29,13],[26,1,26,4],[26,7,26,8],[26,10,26,13],[27,1,27,4],[27,7,27,8],[27,10,27,13],[19,10,19,13],[24,1,24,4],[24,7,24,8],[24,10,24,13],[25,1,25,4],[25,7,25,8],[25,10,25,13],[22,1,22,4],[22,7,22,8],[22,10,22,13],[23,1,23,4],[23,7,23,8],[23,10,23,13],[67,5,67,7],[67,8,67,11],[67,13,67,15],[68,8,69,11],[11,10,12,13],[11,9,12,9],[11,7,12,8],[11,5,12,6],[13,1,13,4],[13,10,13,13],[13,7,13,8],[11,1,12,4],[16,1,16,4],[16,7,16,8],[16,10,16,13],[17,1,17,4],[17,7,17,8],[17,10,17,13],[14,1,14,4],[14,7,14,8],[14,10,14,13],[15,1,15,4],[15,7,15,8],[15,10,15,13],[71,7,71,15],[73,8,73,9],[73,10,73,12],[73,13,73,15],[74,6,74,7],[74,8,74,9],[74,10,74,12],[74,13,74,15],[69,0,69,1],[64,0,64,1],[65,0,65,1],[11,14,12,14],[11,15,12,15],[7,0,7,4],[7,5,7,7],[7,8,7,12],[7,13,7,15],[8,0,8,4],[8,5,8,7],[8,8,8,12],[8,13,8,15],[11,0,12,0],[20,1,20,4],[20,7,20,8],[20,10,20,13],[21,1,21,4],[21,7,21,8],[21,10,21,13],[18,1,18,4],[18,7,18,8],[18,10,18,13],[19,1,19,4],[19,7,19,8],[0,3,2,12],[0,13,2,15],[3,3,4,12],[3,13,4,15],[6,0,6,4],[6,5,6,7],[6,8,6,12],[6,13,6,15],[9,0,9,4],[9,5,9,7],[9,8,9,12],[9,13,9,15]]}
[null,null,null,"Aprovação de Peça de Produção",null,null,null,null,null,null,null,null,null,"PPAP"]
[]
[]
[null,null,null,"Resultados de ensaios de desempenho",null,null,null,null,null,null,null,null,null,{"$f":"TRANSPOSE('PSW - 4º Edição'!N4:P5)","v":"001/16"}]
[]
[null,null,null,null,null,null,null,null,null,null,null,null,null,{"$f":"CONCATENATE('PSW - 4º Edição'!N6)","v":"Revisão 0 de 07/08/15"}]
["ORGANIZAÇÃO:",null,null,null,null,"Parolibor",null,null,"Nº PEÇA:",null,null,null,null,{"$f":"TRANSPOSE('PSW - 4º Edição'!M7)","v":"RR-1202/07"}]
["CÓDIGO DO FORNECEDOR:",null,null,null,null,{"$f":"TRANSPOSE('PSW - 4º Edição'!M8)","v":"076"},null,null,"NOME DA PEÇA: ",null,null,null,null,{"$f":"TRANSPOSE('PSW - 4º Edição'!E7)","v":"Pastilha do registro ramal"}]
["LOCAL DE INSPEÇÃO:",null,null,null,null,"Parolibor",null,null,"NÍVEL DE ALTERAÇÃO DO PROJETO:",null,null,null,null,{"$f":"TRANSPOSE('PSW - 4º Edição'!F9)","v":"07"}]
[null,null,null,null,null,null,null,null,"DOC. ALTERAÇÃO DE ENGENHARIA:"]
[]
["REF.","ENSAIO / DIMENSÃO",null,null,null,"ESPECIFICAÇÃO",null,"DATA ENSAIO",null,"QUANT. ENSAIO","RESULTADOS DO FORNECEDOR",null,null,null,"OK","NÃO OK"]
[]
[]
[]
[]
[]
[]
[]
[]
[]
[]
[]
[]
[]
[]
[]
[]
[]
[]
[]
[]
[]
[]
[]
[]
[]
[]
[]
[]
[]
[]
[]
[]
[]
[]
[]
[]
[]
[]
[]
[]
[]
[]
[]
[]
[]
[]
[]
[]
[]
[]
[null,null,null,null,null,"Comentários: "]
[]
[null,null,null,null,null,"NC: Não controlado pelo fornecedor. Deve ser atendido pelo cliente."]
[null,null,null,null,null,"Declarações de conformidade em branco são inaceitáveis para quaisquer resultado de ensaio."]
[]
[null,null,null,null,null,"ASSINATURA",null,null,"CARGO",null,null,null,null,"DATA"]
[null,null,null,null,null,null,null,null,"Gerente da Qualidade"]
["CFG-1005",null,"MARCH",2006]
[]
[]
[null,null,"Não alterar formatos para evitar distoção na impressão"]
[null,null,"Altura da linha: 12"]
[null,null,"Largura da coluna: 5,5"]

{"sheet":"Fluxo","index":5,"n_rows":75,"n_cols":14,"rows_kept":75,"cut":false,"hidden":false,"merged":[[0,3,2,12],[0,13,2,15],[3,3,4,12],[3,13,4,15],[6,0,6,4],[6,5,6,7],[6,8,6,12],[6,13,6,15],[65,0,65,1],[7,0,7,4],[7,5,7,7],[7,8,7,12],[7,13,7,15],[8,0,8,4],[8,5,8,7],[8,8,8,12],[8,13,8,15],[9,0,9,4],[9,5,9,7],[9,8,9,12],[9,13,9,15],[64,0,64,1],[67,0,67,1],[67,5,67,7],[67,8,67,11],[67,13,67,15],[68,0,68,1],[68,8,69,11],[69,0,69,1],[71,7,71,15],[73,8,73,9],[73,10,73,12],[73,13,73,15],[74,6,74,7],[74,8,74,9],[74,10,74,12],[74,13,74,15]]}
[null,null,null,"Aprovação de Peça de Produção",null,null,null,null,null,null,null,null,null,"PPAP"]
[]
[]
[null,null,null,"Fluxo de processo",null,null,null,null,null,null,null,null,null,{"$f":"TRANSPOSE('[1]PSW - 4º Edição'!N4:P5)","v":"001/16"}]
[]
[null,null,null,null,null,null,null,null,null,null,null,null,null,{"$f":"CONCATENATE('[1]PSW - 4º Edição'!N6)","v":"Revisão 0 de 19/02/16"}]
["ORGANIZAÇÃO:",null,null,null,null,"Parolibor",null,null,"Nº PEÇA:",null,null,null,null,{"$f":"'PSW - 4º Edição'!M7","v":"RR-1202/07"}]
["CÓDIGO DO FORNECEDOR:",null,null,null,null,{"$f":"'PSW - 4º Edição'!M8","v":"076"},null,null,"NOME DA PEÇA: ",null,null,null,null,{"$f":"'PSW - 4º Edição'!E7","v":"Pastilha do registro ramal"}]
["LOCAL DE INSPEÇÃO:",null,null,null,null,"Parolibor",null,null,"NÍVEL DE ALTERAÇÃO DO PROJETO:",null,null,null,null,{"$f":"TRANSPOSE('PSW - 4º Edição'!F9)","v":"07"}]
[null,null,null,null,null,null,null,null,"DOC. ALTERAÇÃO DE ENGENHARIA:"]
[]
[]
[]
[]
[]
[]
[]
[]
[]
[]
[]
[]
[]
[]
[]
[]
[]
[]
[]
[]
[]
[]
[]
[]
[]
[]
[]
[]
[]
[]
[]
[]
[]
[]
[]
[]
[]
[]
[]
[]
[]
[]
[]
[]
[]
[]
[]
[]
[]
[]
[]
[]
[null,null,null,null,null,"Comentários: "]
[]
[]
[]
[]
[null,null,null,null,null,"ASSINATURA",null,null,"CARGO",null,null,null,null,"DATA"]
[null,null,null,null,null,null,null,null,"Gerente da Qualidade"]
[]
[]
[]
[null,null,"Não alterar formatos para evitar distoção na impressão"]
[null,null,"Altura da linha: 12"]
[null,null,"Largura da coluna: 5,5"]

{"sheet":"MSALaboratório","index":6,"n_rows":75,"n_cols":21,"rows_kept":75,"cut":false,"hidden":false,"merged":[[59,0,59,3],[59,4,59,15],[60,0,60,3],[60,4,60,7],[60,8,60,11],[60,12,60,15],[57,3,57,5],[57,6,57,7],[57,8,57,9],[57,10,57,11],[57,12,57,13],[57,14,57,15],[56,3,56,5],[56,6,56,7],[56,8,56,9],[56,10,56,11],[56,12,56,13],[56,14,56,15],[55,3,55,5],[55,6,55,7],[55,8,55,9],[55,10,55,11],[55,12,55,13],[55,14,55,15],[54,3,54,5],[54,6,54,7],[54,8,54,9],[54,10,54,11],[54,12,54,13],[54,14,54,15],[53,3,53,5],[53,6,53,7],[53,8,53,9],[53,10,53,11],[53,12,53,13],[53,14,53,15],[49,0,49,3],[49,4,49,7],[49,8,49,11],[49,12,49,15],[52,3,52,5],[52,6,52,7],[52,8,52,9],[52,10,52,11],[52,12,52,13],[52,14,52,15],[45,0,46,3],[47,0,47,3],[47,4,47,7],[47,8,47,11],[47,12,47,15],[48,0,48,3],[48,4,48,7],[48,8,48,11],[48,12,48,15],[42,0,42,3],[42,4,42,15],[43,0,43,3],[43,4,43,7],[43,8,43,11],[43,12,43,15],[40,3,40,5],[40,6,40,7],[40,8,40,9],[40,10,40,11],[40,12,40,13],[40,14,40,15],[39,3,39,5],[39,6,39,7],[39,8,39,9],[39,10,39,11],[39,12,39,13],[39,14,39,15],[38,3,38,5],[38,6,38,7],[38,8,38,9],[38,10,38,11],[38,12,38,13],[38,14,38,15],[37,3,37,5],[37,6,37,7],[37,8,37,9],[37,10,37,11],[37,12,37,13],[37,14,37,15],[36,3,36,5],[36,6,36,7],[36,8,36,9],[36,10,36,11],[36,12,36,13],[36,14,36,15],[32,0,32,3],[32,4,32,7],[32,8,32,11],[32,12,32,15],[35,3,35,5],[35,6,35,7],[35,8,35,9],[35,10,35,11],[35,12,35,13],[35,14,35,15],[30,0,30,3],[30,4,30,7],[30,8,30,11],[30,12,30,15],[31,0,31,3],[31,4,31,7],[31,8,31,11],[31,12,31,15],[25,0,25,3],[26,0,26,3],[26,4,26,7],[26,8,26,11],[26,12,26,15],[25,4,25,15],[27,0,27,2],[28,0,29,3],[18,8,18,9],[19,8,19,9],[20,8,20,9],[21,8,21,9],[22,8,22,9],[23,8,23,9],[18,10,18,11],[19,10,19,11],[20,10,20,11],[21,10,21,11],[22,10,22,11],[23,3,23,5],[18,3,18,5],[13,8,13,11],[14,8,14,11],[15,8,15,11],[22,14,22,15],[23,14,23,15],[18,14,18,15],[18,12,18,13],[19,12,19,13],[20,12,20,13],[21,12,21,13],[22,12,22,13],[23,12,23,13],[19,14,19,15],[20,14,20,15],[21,14,21,15],[18,6,18,7],[19,6,19,7],[20,6,20,7],[21,6,21,7],[22,6,22,7],[23,6,23,7],[23,10,23,11],[73,8,73,9],[73,10,73,12],[73,13,73,15],[74,6,74,7],[74,8,74,9],[74,10,74,12],[74,13,74,15],[67,0,67,1],[67,5,67,7],[67,8,67,11],[67,13,67,15],[68,0,68,1],[68,8,69,11],[69,0,69,1],[71,7,71,15],[64,0,64,1],[65,0,65,1],[13,0,13,3],[7,0,7,4],[7,5,7,7],[7,8,7,12],[7,13,7,15],[8,0,8,4],[8,5,8,7],[8,8,8,12],[8,13,8,15],[13,12,13,15],[14,12,14,15],[15,12,15,15],[14,0,14,3],[15,0,15,3],[13,4,13,7],[14,4,14,7],[15,4,15,7],[11,0,12,3],[19,3,19,5],[20,3,20,5],[21,3,21,5],[22,3,22,5],[0,3,2,12],[0,13,2,15],[3,3,4,12],[3,13,4,15],[6,0,6,4],[6,5,6,7],[6,8,6,12],[6,13,6,15],[9,0,9,4],[9,5,9,7],[9,8,9,12],[9,13,9,15],[19,18,19,19],[20,18,20,19],[21,18,21,19],[22,18,22,19],[23,18,23,19],[19,20,19,21],[20,20,20,21],[21,20,21,21],[22,20,22,21],[23,20,23,21]]}
[null,null,null,"Aprovação de Peça de Produção",null,null,null,null,null,null,null,null,null,"PPAP"]
[]
[]
[null,null,null,"Análise dos sistemas de medição",null,null,null,null,null,null,null,null,null,{"$f":"TRANSPOSE('PSW - 4º Edição'!N4:P5)","v":"001/16"}]
[]
[null,null,null,null,null,null,null,null,null,null,null,null,null,{"$f":"CONCATENATE('PSW - 4º Edição'!N6)","v":"Revisão 0 de 07/08/15"}]
["ORGANIZAÇÃO:",null,null,null,null,"Parolibor",null,null,"Nº PEÇA:",null,null,null,null,{"$f":"'PSW - 4º Edição'!M7","v":"RR-1202/07"}]
["CÓDIGO DO FORNECEDOR:",null,null,null,null,{"$f":"'PSW - 4º Edição'!M8","v":"076"},null,null,"NOME DA PEÇA: ",null,null,null,null,{"$f":"'PSW - 4º Edição'!E7","v":"Pastilha do registro ramal"}]
["LOCAL DE INSPEÇÃO:",null,null,null,null,"Parolibor",null,null,"NÍVEL DE ALTERAÇÃO DO PROJETO:",null,null,null,null,{"$f":"TRANSPOSE('PSW - 4º Edição'!F9)","v":"07"}]
[null,null,null,null,null,null,null,null,"DOC. ALTERAÇÃO DE ENGENHARIA:"]
[]
["Método ANOVA"]
[]
["Peça:",null,null,null,"Corpo de prova ASTM D2240",null,null,null,"Data:",null,null,null,"2015-04-22"]
["Dispositivo de medição:",null,null,null,"Durômetro",null,null,null,"Característica:",null,null,null,"Dureza (M2)"]
["Dados:",null,null,null,"3 operadores - 10 peças - 3 ciclos",null,null,null,"Realização:",null,null,null,"Eduardo"]
[]
[]
[null,null,null,null,null,null,"Variância",null,"D.Padrão",null,"5,15 D.Padrão",null,"% Variação total",null,"Contribuição"]
[null,null,null,"Repetitividade",null,null,7.4222222222222231E-2,null,0.27243755655603402,null,1.4030534162635753,null,{"$f":"K20/$M$27","v":0.2338422360439292},null,{"$f":"M20^2","v":5.4682191358024705E-2},null,null,null,0.2338422360439292,null,5.4682191358024705E-2]
[null,null,null,"Reprodutibilidade",null,null,1.9864197530864332E-2,null,0.14094040418157006,null,0.72584308153508581,null,{"$f":"K21/$M$27","v":0.1209738469225143},null,{"$f":"M21^2","v":1.4634671639231921E-2},null,null,null,0.1209738469225143,null,1.4634671639231921E-2]
[null,null,null,"Peça X Operador",null,null,2.5098765432098699E-2,null,0.15842589886788933,null,0.81589337916963012,null,{"$f":"K22/$M$27","v":0.13598222986160502},null,1.8491166838134385E-2,null,null,null,0.13598222986160502,null,1.8491166838134385E-2]
[null,null,null,"R&R",null,null,0.11918518518518527,null,0.34523207438647019,null,1.7779451830903217,null,{"$f":"K23/$M$27","v":0.29632419718172026},null,8.780802983539103E-2,null,null,null,0.29632419718172026,null,8.780802983539103E-2]
[null,null,null,"Peça-a-Peça",null,null,5.5205761316872437E-2,null,0.23495906306604228,null,1.2100391747901178,null,{"$f":"K24/$M$27","v":0.20167319579835297},null,4.0672077903520815E-2,null,null,null,0.20167319579835297,null,4.0672077903520815E-2]
[]
["Observações:",null,null,null,"Baseado nas categorias de dados, o sistema de medição é aceitável"]
["Tolerância:",null,null,null,"6 Shore A",null,null,null,"Variação total:",null,null,null,6]
[]
["Método ANOVA"]
[]
["Peça:",null,null,null,"Corpo de prova ASTM D2084",null,null,null,"Data:",null,null,null,"2017-03-21"]
["Dispositivo de medição:",null,null,null,"Reômetro",null,null,null,"Característica:",null,null,null,"tS50 (M20)"]
["Dados:",null,null,null,"3 operadores - 10 peças - 1 ciclo",null,null,null,"Realização:",null,null,null,"Eduardo"]
[]
[]
[null,null,null,null,null,null,"Variância",null,"D.Padrão",null,"5,15 D.Padrão",null,"% Variação total",null,"Contribuição"]
[null,null,null,"Repetitividade",null,null,0,null,0,null,0,null,0,null,0]
[null,null,null,"Reprodutibilidade",null,null,5.1000000000000025E-4,null,2.2583179581272435E-2,null,0.11630337484355305,null,0.11630337484355305,null,1.3526475000000008E-2]
[null,null,null,"Peça X Operador",null,null,1.5633333333333358E-3,null,3.9539010272556595E-2,null,0.20362590290366647,null,0.20362590290366647,null,4.1463508333333406E-2]
[null,null,null,"R&R",null,null,2.0733333333333359E-3,null,4.5533870177411187E-2,null,0.23449943141366764,null,0.23449943141366764,null,5.4989983333333409E-2]
[null,null,null,"Peça-a-Peça",null,null,0,null,0,null,0,null,0,null,0]
[]
["Observações:",null,null,null,"Baseado nas categorias de dados, o sistema de medição é aceitável"]
["Tolerância:",null,null,null,"1,0 min",null,null,null,"Variação total:",null,null,null,1]
[]
["Método ANOVA"]
[]
[]
[]
[]
[]
[]
[]
[]
[]
[]
[]
[]
[]
[]
[]
[]
[null,null,null,null,null,"Comentários: "]
[]
[]
[]
[]
[null,null,null,null,null,"ASSINATURA",null,null,"CARGO",null,null,null,null,"DATA"]
[null,null,null,null,null,null,null,null,"Responsável Técnico"]
[]
[]
[]
[null,null,"Não alterar formatos para evitar distoção na impressão"]
[null,null,"Altura da linha: 12"]
[null,null,"Largura da coluna: 5,5"]

{"sheet":"MSAVisual","index":7,"n_rows":75,"n_cols":14,"rows_kept":75,"cut":false,"hidden":false,"merged":[[0,3,2,12],[0,13,2,15],[3,3,4,12],[3,13,4,15],[6,0,6,4],[6,5,6,7],[6,8,6,12],[6,13,6,15],[7,0,7,4],[7,5,7,7],[7,8,7,12],[7,13,7,15],[8,0,8,4],[8,5,8,7],[8,8,8,12],[8,13,8,15],[9,0,9,4],[9,5,9,7],[9,8,9,12],[9,13,9,15],[64,0,64,1],[11,0,12,3],[13,0,13,3],[13,4,13,7],[13,8,13,11],[15,0,15,3],[15,4,15,7],[15,8,15,11],[15,12,15,15],[73,8,73,9],[73,10,73,12],[73,13,73,15],[74,6,74,7],[74,8,74,9],[74,10,74,12],[74,13,74,15],[71,7,71,15],[67,0,67,1],[67,5,67,7],[67,8,67,11],[67,13,67,15],[68,0,68,1],[68,8,69,11],[69,0,69,1],[65,0,65,1],[13,12,13,15],[14,0,14,3],[14,4,14,7],[14,8,14,11],[14,12,14,15]]}
[null,null,null,"Aprovação de Peça de Produção",null,null,null,null,null,null,null,null,null,"PPAP"]
[]
[]
[null,null,null,"Análise dos sistemas de medição",null,null,null,null,null,null,null,null,null,{"$f":"TRANSPOSE('PSW - 4º Edição'!N4:P5)","v":"001/16"}]
[]
[null,null,null,null,null,null,null,null,null,null,null,null,null,{"$f":"CONCATENATE('PSW - 4º Edição'!N6)","v":"Revisão 0 de 07/08/15"}]
["ORGANIZAÇÃO:",null,null,null,null,"Parolibor",null,null,"Nº PEÇA:",null,null,null,null,{"$f":"'PSW - 4º Edição'!M7","v":"RR-1202/07"}]
["CÓDIGO DO FORNECEDOR:",null,null,null,null,{"$f":"'PSW - 4º Edição'!M8","v":"076"},null,null,"NOME DA PEÇA: ",null,null,null,null,{"$f":"'PSW - 4º Edição'!E7","v":"Pastilha do registro ramal"}]
["LOCAL DE INSPEÇÃO:",null,null,null,null,"Parolibor",null,null,"NÍVEL DE ALTERAÇÃO DO PROJETO:",null,null,null,null,{"$f":"TRANSPOSE('PSW - 4º Edição'!F9)","v":"07"}]
[null,null,null,null,null,null,null,null,"DOC. ALTERAÇÃO DE ENGENHARIA:"]
[]
["Método Curto"]
[]
["Peça:",null,null,null,"Item de referência",null,null,null,"Data:",null,null,null,"2014-06-04"]
["Dispositivo de medição:",null,null,null,"Visual",null,null,null,"Característica:",null,null,null,"Deformações ou falhas"]
["Dados:",null,null,null,"3 operadores - 150 peças",null,null,null,"Realização:",null,null,null,"Celso"]
[]
[]
[]
[]
[]
[]
[]
[]
[]
[]
[]
[]
[]
[]
[]
[]
[]
[]
[]
[]
[]
[]
[]
[]
[]
[]
[]
[]
[]
[]
[]
[]
[]
[]
[]
[]
[]
[]
[]
[]
[]
[]
[]
[]
[]
[]
[null,null,null,null,null,"Comentários: "]
[]
[]
[]
[]
[null,null,null,null,null,"ASSINATURA",null,null,"CARGO",null,null,null,null,"DATA"]
[null,null,null,null,null,null,null,null,"Gerente da Qualidade"]
[]
[]
[]
[null,null,"Não alterar formatos para evitar distoção na impressão"]
[null,null,"Altura da linha: 12"]
[null,null,"Largura da coluna: 5,5"]

{"sheet":"MSAMetrologia","index":8,"n_rows":75,"n_cols":15,"rows_kept":75,"cut":false,"hidden":false,"merged":[[7,0,7,4],[7,5,7,7],[7,8,7,12],[7,13,7,15],[8,0,8,4],[8,5,8,7],[8,8,8,12],[8,13,8,15],[0,3,2,12],[0,13,2,15],[3,3,4,12],[3,13,4,15],[6,0,6,4],[6,5,6,7],[6,8,6,12],[6,13,6,15],[9,0,9,4],[9,5,9,7],[9,8,9,12],[9,13,9,15],[64,0,64,1],[65,0,65,1],[11,0,12,3],[13,0,13,3],[13,4,13,7],[13,8,13,11],[13,12,13,15],[14,0,14,3],[14,4,14,7],[14,8,14,11],[14,12,14,15],[15,0,15,3],[15,4,15,7],[15,8,15,11],[15,12,15,15],[19,3,19,5],[19,6,19,7],[19,8,19,9],[19,10,19,11],[19,12,19,13],[71,7,71,15],[73,8,73,9],[73,10,73,12],[73,13,73,15],[74,6,74,7],[74,8,74,9],[74,10,74,12],[74,13,74,15],[67,0,67,1],[67,5,67,7],[67,8,67,11],[67,13,67,15],[68,0,68,1],[68,8,69,11],[69,0,69,1],[19,14,19,15],[18,3,18,5],[18,6,18,7],[18,8,18,9],[18,10,18,11],[18,12,18,13],[18,14,18,15],[21,3,21,5],[21,6,21,7],[21,8,21,9],[21,10,21,11],[21,12,21,13],[21,14,21,15],[20,3,20,5],[20,6,20,7],[20,8,20,9],[20,10,20,11],[20,12,20,13],[20,14,20,15],[23,3,23,5],[23,6,23,7],[23,8,23,9],[23,10,23,11],[23,12,23,13],[23,14,23,15],[22,3,22,5],[22,6,22,7],[22,8,22,9],[22,10,22,11],[22,12,22,13],[22,14,22,15],[27,0,27,2],[28,0,29,3],[30,0,30,3],[30,4,30,7],[30,8,30,11],[30,12,30,15],[25,0,25,3],[25,4,25,15],[26,0,26,3],[26,4,26,7],[26,8,26,11],[26,12,26,15],[35,3,35,5],[35,6,35,7],[35,8,35,9],[35,10,35,11],[35,12,35,13],[35,14,35,15],[31,0,31,3],[31,4,31,7],[31,8,31,11],[31,12,31,15],[32,0,32,3],[32,4,32,7],[32,8,32,11],[32,12,32,15],[37,3,37,5],[37,6,37,7],[37,8,37,9],[37,10,37,11],[37,12,37,13],[37,14,37,15],[36,3,36,5],[36,6,36,7],[36,8,36,9],[36,10,36,11],[36,12,36,13],[36,14,36,15],[39,3,39,5],[39,6,39,7],[39,8,39,9],[39,10,39,11],[39,12,39,13],[39,14,39,15],[38,3,38,5],[38,6,38,7],[38,8,38,9],[38,10,38,11],[38,12,38,13],[38,14,38,15],[42,0,42,3],[42,4,42,15],[43,0,43,3],[43,4,43,7],[43,8,43,11],[43,12,43,15],[40,3,40,5],[40,6,40,7],[40,8,40,9],[40,10,40,11],[40,12,40,13],[40,14,40,15],[45,0,46,3],[47,0,47,3],[47,4,47,7],[47,8,47,11],[47,12,47,15],[48,0,48,3],[48,4,48,7],[48,8,48,11],[48,12,48,15],[49,0,49,3],[49,4,49,7],[49,8,49,11],[49,12,49,15],[52,3,52,5],[52,6,52,7],[52,8,52,9],[52,10,52,11],[52,12,52,13],[52,14,52,15],[54,3,54,5],[54,6,54,7],[54,8,54,9],[54,10,54,11],[54,12,54,13],[54,14,54,15],[53,3,53,5],[53,6,53,7],[53,8,53,9],[53,10,53,11],[53,12,53,13],[53,14,53,15],[56,3,56,5],[56,6,56,7],[56,8,56,9],[56,10,56,11],[56,12,56,13],[56,14,56,15],[55,3,55,5],[55,6,55,7],[55,8,55,9],[55,10,55,11],[55,12,55,13],[55,14,55,15],[59,0,59,3],[59,4,59,15],[60,0,60,3],[60,4,60,7],[60,8,60,11],[60,12,60,15],[57,3,57,5],[57,6,57,7],[57,8,57,9],[57,10,57,11],[57,12,57,13],[57,14,57,15]]}
[null,null,null,"Aprovação de Peça de Produção",null,null,null,null,null,null,null,null,null,"PPAP"]
[]
[]
[null,null,null,"Análise dos sistemas de medição",null,null,null,null,null,null,null,null,null,{"$f":"TRANSPOSE('PSW - 4º Edição'!N4:P5)","v":"001/16"}]
[]
[null,null,null,null,null,null,null,null,null,null,null,null,null,{"$f":"CONCATENATE('PSW - 4º Edição'!N6)","v":"Revisão 0 de 07/08/15"}]
["ORGANIZAÇÃO:",null,null,null,null,"Parolibor",null,null,"Nº PEÇA:",null,null,null,null,{"$f":"'PSW - 4º Edição'!M7","v":"RR-1202/07"}]
["CÓDIGO DO FORNECEDOR:",null,null,null,null,{"$f":"'PSW - 4º Edição'!M8","v":"076"},null,null,"NOME DA PEÇA: ",null,null,null,null,{"$f":"'PSW - 4º Edição'!E7","v":"Pastilha do registro ramal"}]
["LOCAL DE INSPEÇÃO:",null,null,null,null,"Parolibor",null,null,"NÍVEL DE ALTERAÇÃO DO PROJETO:",null,null,null,null,{"$f":"TRANSPOSE('PSW - 4º Edição'!F9)","v":"07"}]
[null,null,null,null,null,null,null,null,"DOC. ALTERAÇÃO DE ENGENHARIA:"]
[]
["Método ANOVA"]
[]
["Peça:",null,null,null,{"$f":"N8","v":"Pastilha do registro ramal"},null,null,null,"Data:"]
["Dispositivo de medição:",null,null,null,"Paquímetro 004/06-CQ",null,null,null,"Característica:",null,null,null,"Diâmetro 7,9 mm"]
["Dados:",null,null,null,"3 operadores - 10 peças - 3 ciclos",null,null,null,"Realização:",null,null,null,"Celso"]
[]
[]
[null,null,null,null,null,null,"Variância",null,"D.Padrão",null,"5,15 D.Padrão",null,"% Variação total",null,"Contribuição"]
[null,null,null,"Repetitividade",null,null,3.2666666666665702E-4,null,7.0000000000000001E-3,null,{"$f":"5.15*I20","v":3.6050000000000006E-2},null,{"$f":"K20/$M$27","v":9.0125000000000011E-2},null,{"$f":"M20^2","v":8.1225156250000017E-3}]
[null,null,null,"Reprodutibilidade",null,null,5.3955555555555397E-3,null,1.9E-3,null,{"$f":"5.15*I21","v":9.7850000000000003E-3},null,{"$f":"K21/$M$27","v":2.4462499999999998E-2},null,{"$f":"M21^2","v":5.9841390624999996E-4}]
[null,null,null,"Peça X Operador",null,null,1.0511111111111201E-3,null,1.9E-3,null,{"$f":"5.15*I22","v":9.7850000000000003E-3},null,{"$f":"K22/$M$27","v":2.4462499999999998E-2},null,5.9841390624999996E-4]
[null,null,null,"R&R",null,null,2.8666666666666602E-3,null,7.4000000000000003E-3,null,3.8110000000000005E-2,null,{"$f":"K23/$M$27","v":9.5275000000000012E-2},null,9.0773256250000021E-3]
[null,null,null,"Peça-a-Peça",null,null,1.7790123456790251E-4,null,7.7999999999999996E-3,null,4.0170000000000004E-2,null,{"$f":"K24/$M$27","v":0.100425},null,1.0085180625000001E-2]
[]
["Observações:",null,null,null,{"$f":"IF(M23<=0.1,\"Baseado nas categorias de dados, o sistema de medição é adequado\",IF(M23>0.3,\"Baseado nas categorias de dados, o sistema de medição não é aceitável\",\"Baseado nas categorias de dados, o sistema de medição é aceitável\"))","v":"Baseado nas categorias de dados, o sistema de medição é adequado"}]
["Tolerância:",null,null,null,"0,4 mm",null,null,null,"Variação total:",null,null,null,0.4]
[]
["Método ANOVA"]
[]
[]
[]
[]
[]
[]
[]
[]
[]
[]
[]
[]
[]
[]
[]
[]
["Método ANOVA"]
[]
[]
[]
[]
[]
[]
[]
[]
[]
[]
[]
[]
[]
[]
[]
[]
[null,null,null,null,null,"Comentários: "]
[]
[]
[]
[]
[null,null,null,null,null,"ASSINATURA",null,null,"CARGO",null,null,null,null,"DATA"]
[null,null,null,null,null,null,null,null,"Gerente da Qualidade"]
[]
[]
[]
[null,null,"Não alterar formatos para evitar distoção na impressão"]
[null,null,"Altura da linha: 12"]
[null,null,"Largura da coluna: 5,5"]

{"sheet":"EstCaractEspeciais","index":9,"n_rows":75,"n_cols":14,"rows_kept":75,"cut":false,"hidden":false,"merged":[[0,3,2,12],[0,13,2,15],[3,3,4,12],[3,13,4,15],[6,0,6,4],[6,5,6,7],[6,8,6,12],[6,13,6,15],[65,0,65,1],[7,0,7,4],[7,5,7,7],[7,8,7,12],[7,13,7,15],[8,0,8,4],[8,5,8,7],[8,8,8,12],[8,13,8,15],[9,0,9,4],[9,5,9,7],[9,8,9,12],[9,13,9,15],[64,0,64,1],[67,0,67,1],[67,5,67,7],[67,8,67,11],[67,13,67,15],[68,0,68,1],[68,8,69,11],[69,0,69,1],[71,7,71,15],[73,8,73,9],[73,10,73,12],[73,13,73,15],[74,6,74,7],[74,8,74,9],[74,10,74,12],[74,13,74,15]]}
[null,null,null,"Aprovação de Peça de Produção",null,null,null,null,null,null,null,null,null,"PPAP"]
[]
[]
[null,null,null,"Estudos iniciais do processo",null,null,null,null,null,null,null,null,null,{"$f":"TRANSPOSE('PSW - 4º Edição'!N4:P5)","v":"001/16"}]
[]
[null,null,null,null,null,null,null,null,null,null,null,null,null,{"$f":"CONCATENATE('PSW - 4º Edição'!N6)","v":"Revisão 0 de 07/08/15"}]
["ORGANIZAÇÃO:",null,null,null,null,"Parolibor",null,null,"Nº PEÇA:",null,null,null,null,{"$f":"'PSW - 4º Edição'!M7","v":"RR-1202/07"}]
["CÓDIGO DO FORNECEDOR:",null,null,null,null,{"$f":"'PSW - 4º Edição'!M8","v":"076"},null,null,"NOME DA PEÇA: ",null,null,null,null,{"$f":"'PSW - 4º Edição'!E7","v":"Pastilha do registro ramal"}]
["LOCAL DE INSPEÇÃO:",null,null,null,null,"Parolibor",null,null,"NÍVEL DE ALTERAÇÃO DO PROJETO:",null,null,null,null,{"$f":"TRANSPOSE('PSW - 4º Edição'!F9)","v":"07"}]
[null,null,null,null,null,null,null,null,"DOC. ALTERAÇÃO DE ENGENHARIA:"]
[]
[]
[]
[]
[]
[]
[]
[]
[]
[]
[]
[]
[]
[]
[]
[]
[]
[]
[]
[]
[]
[]
[]
[]
[]
[]
[]
[]
[]
[]
[]
[]
[]
[]
[]
[]
[]
[]
[]
[]
[]
[]
[]
[]
[]
[]
[]
[]
[]
[]
[]
[]
[null,null,null,null,null,"Comentários: "]
[]
[]
[]
[]
[null,null,null,null,null,"ASSINATURA",null,null,"CARGO",null,null,null,null,"DATA"]
[null,null,null,null,null,null,null,null,"Gerente da Qualidade"]
[]
[]
[]
[null,null,"Não alterar formatos para evitar distoção na impressão"]
[null,null,"Altura da linha: 12"]
[null,null,"Largura da coluna: 5,5"]

{"sheet":"Dados Cota C1","index":10,"n_rows":125,"n_cols":10,"rows_kept":125,"cut":false,"hidden":false,"merged":[[123,1,123,2],[124,1,124,2],[117,4,117,5],[118,4,119,5],[2,1,2,2],[110,0,111,0],[112,0,113,0],[114,0,115,0],[121,0,121,2],[122,1,122,2]]}
["Capabilidade do Processo"]
["Item: "]
["Caracteristica:","Capabilidade cota C1 - ø (68,50 ± 0,20) mm"]
[null,null,"LSE","LIE","Passo","Divisões"]
[null,null,10.5,9.5,{"$f":"(C5-D5)/F5","v":0.02},50,"Curva normal"]
["2009-07-24"]
["Cavidade",null,"Medida",null,null,"Número classes","Classes","Condição","Normal","Ocorrências"]
[1,null,9.9580000000000002,null,null,1,{"$f":"D5-F5*E5/2","v":9},{"$f":"CONCATENATE(\"<=\",G8+(G9-G8)/2)","v":"<=9,01"},{"$f":"NORMDIST(G8,$C$109,$C$110,FALSE)","v":1.9057813716356675E-9},{"$f":"COUNTIF($C$8:$C$108,H8)","v":0}]
[2,null,9.9480000000000004,null,null,2,{"$f":"G8+$E$5","v":9.02},{"$f":"CONCATENATE(\"<=\",G9+(G10-G9)/2)","v":"<=9,03"},4.9703213861353568E-9,{"$f":"COUNTIF($C$8:$C$107,H9)-J8","v":0}]
[3,null,9.9379999999999988,null,null,3,{"$f":"G9+$E$5","v":9.0399999999999991},"<=9,05",1.2677972487862434E-8,{"$f":"COUNTIF($C$8:$C$107,H10)-SUM($J$8:J9)","v":0}]
[4,null,9.8979999999999997,null,null,4,9.0599999999999987,"<=9,07",3.1627806841243538E-8,{"$f":"COUNTIF($C$8:$C$107,H11)-SUM($J$8:J10)","v":0}]
[5,null,9.918000000000001,null,null,5,9.0799999999999983,"<=9,09",7.7168896503383939E-8,{"$f":"COUNTIF($C$8:$C$107,H12)-SUM($J$8:J11)","v":0}]
[6,null,9.94,null,null,6,9.0999999999999979,"<=9,11",1.8414903255026E-7,{"$f":"COUNTIF($C$8:$C$107,H13)-SUM($J$8:J12)","v":0}]
[7,null,9.9659999999999993,null,null,7,9.1199999999999974,"<=9,13",4.2978428601656713E-7,{"$f":"COUNTIF($C$8:$C$107,H14)-SUM($J$8:J13)","v":0}]
[8,null,9.9060000000000006,null,null,8,9.139999999999997,"<=9,15",9.8103739698827795E-7,{"$f":"COUNTIF($C$8:$C$107,H15)-SUM($J$8:J14)","v":0}]
[9,null,9.902000000000001,null,null,9,9.1599999999999966,"<=9,17",2.1901533923220692E-6,{"$f":"COUNTIF($C$8:$C$107,H16)-SUM($J$8:J15)","v":0}]
[10,null,9.8760000000000012,null,null,10,9.1799999999999962,"<=9,19",4.7820866578744486E-6,{"$f":"COUNTIF($C$8:$C$107,H17)-SUM($J$8:J16)","v":0}]
[11,null,9.9060000000000006,null,null,11,9.1999999999999957,"<=9,21",1.0212081929480637E-5,{"$f":"COUNTIF($C$8:$C$107,H18)-SUM($J$8:J17)","v":0}]
[12,null,9.8820000000000014,null,null,12,9.2199999999999953,"<=9,23",2.132873401725231E-5,{"$f":"COUNTIF($C$8:$C$107,H19)-SUM($J$8:J18)","v":0}]
[13,null,9.8879999999999999,null,null,13,9.2399999999999949,"<=9,24999999999999",4.3568218864821672E-5,{"$f":"COUNTIF($C$8:$C$107,H20)-SUM($J$8:J19)","v":0}]
[14,null,9.9079999999999995,null,null,14,9.2599999999999945,"<=9,26999999999999",8.7041922030309574E-5,{"$f":"COUNTIF($C$8:$C$107,H21)-SUM($J$8:J20)","v":0}]
[15,null,9.9199999999999982,null,null,15,9.279999999999994,"<=9,28999999999999",1.7007523453236244E-4,{"$f":"COUNTIF($C$8:$C$107,H22)-SUM($J$8:J21)","v":0}]
[16,null,9.8780000000000001,null,null,16,9.2999999999999936,"<=9,30999999999999",3.2501815752355399E-4,{"$f":"COUNTIF($C$8:$C$107,H23)-SUM($J$8:J22)","v":0}]
[17,null,9.8000000000000007,null,null,17,9.3199999999999932,"<=9,32999999999999",6.0747457929590974E-4,{"$f":"COUNTIF($C$8:$C$107,H24)-SUM($J$8:J23)","v":0}]
[18,null,9.8159999999999989,null,null,18,9.3399999999999928,"<=9,34999999999999",1.1104590125887259E-3,{"$f":"COUNTIF($C$8:$C$107,H25)-SUM($J$8:J24)","v":0}]
[19,null,9.7760000000000016,null,null,19,9.3599999999999923,"<=9,36999999999999",1.9853217336798798E-3,{"$f":"COUNTIF($C$8:$C$107,H26)-SUM($J$8:J25)","v":0}]
[20,null,9.7319999999999993,null,null,20,9.3799999999999919,"<=9,38999999999999",3.4714682694300314E-3,{"$f":"COUNTIF($C$8:$C$107,H27)-SUM($J$8:J26)","v":0}]
[21,null,9.6760000000000002,null,null,21,9.3999999999999915,"<=9,40999999999999",5.9367593166073972E-3,{"$f":"COUNTIF($C$8:$C$107,H28)-SUM($J$8:J27)","v":0}]
[22,null,9.7759999999999998,null,null,22,9.419999999999991,"<=9,42999999999999",9.9297799488921503E-3,{"$f":"COUNTIF($C$8:$C$107,H29)-SUM($J$8:J28)","v":0}]
[23,null,9.7240000000000002,null,null,23,9.4399999999999906,"<=9,44999999999999",1.6243654576143726E-2,{"$f":"COUNTIF($C$8:$C$107,H30)-SUM($J$8:J29)","v":0}]
[24,null,9.7480000000000011,null,null,24,9.4599999999999902,"<=9,46999999999999",2.5988535457797248E-2,{"$f":"COUNTIF($C$8:$C$107,H31)-SUM($J$8:J30)","v":0}]
[25,null,9.7759999999999998,null,null,25,9.4799999999999898,"<=9,48999999999999",4.0666220042234288E-2,{"$f":"COUNTIF($C$8:$C$107,H32)-SUM($J$8:J31)","v":0}]
[26,null,9.85,null,null,26,9.4999999999999893,"<=9,50999999999999",6.2235723934954842E-2,{"$f":"COUNTIF($C$8:$C$107,H33)-SUM($J$8:J32)","v":0}]
[27,null,9.83,null,null,27,9.5199999999999889,"<=9,52999999999999",9.3153595983985357E-2,{"$f":"COUNTIF($C$8:$C$107,H34)-SUM($J$8:J33)","v":0}]
[28,null,9.9280000000000008,null,null,28,9.5399999999999885,"<=9,54999999999999",0.13636830509056988,{"$f":"COUNTIF($C$8:$C$107,H35)-SUM($J$8:J34)","v":0}]
[29,null,9.8859999999999992,null,null,29,9.5599999999999881,"<=9,56999999999999",0.19524557518911698,{"$f":"COUNTIF($C$8:$C$107,H36)-SUM($J$8:J35)","v":0}]
[30,null,9.8060000000000009,null,null,30,9.5799999999999876,"<=9,58999999999999",0.27340276181057566,{"$f":"COUNTIF($C$8:$C$107,H37)-SUM($J$8:J36)","v":0}]
[31,null,9.7940000000000005,null,null,31,9.5999999999999872,"<=9,60999999999999",0.37443680749143049,{"$f":"COUNTIF($C$8:$C$107,H38)-SUM($J$8:J37)","v":0}]
[32,null,9.7679999999999989,null,null,32,9.6199999999999868,"<=9,62999999999999",0.50154292624181651,{"$f":"COUNTIF($C$8:$C$107,H39)-SUM($J$8:J38)","v":0}]
[33,null,9.6999999999999993,null,null,33,9.6399999999999864,"<=9,64999999999999",{"$f":"NORMDIST(G40,$C$109,$C$110,FALSE)","v":0.65703971990274035},{"$f":"COUNTIF($C$8:$C$107,H40)-SUM($J$8:J39)","v":0}]
[34,null,9.7639999999999993,null,null,34,9.6599999999999859,"<=9,66999999999999",0.841839073160221,{"$f":"COUNTIF($C$8:$C$107,H41)-SUM($J$8:J40)","v":0}]
[35,null,9.86,null,null,35,9.6799999999999855,"<=9,68999999999999",1.0549223005536743,{"$f":"COUNTIF($C$8:$C$107,H42)-SUM($J$8:J41)","v":1}]
[36,null,9.8120000000000012,null,null,36,9.6999999999999851,"<=9,70999999999998",1.2929025932780838,{"$f":"COUNTIF($C$8:$C$107,H43)-SUM($J$8:J42)","v":2}]
[37,null,10.194000000000001,null,null,37,9.7199999999999847,"<=9,72999999999998",1.5497622550177352,{"$f":"COUNTIF($C$8:$C$107,H44)-SUM($J$8:J43)","v":1}]
[38,null,10.202000000000002,null,null,38,9.7399999999999842,"<=9,74999999999998",1.816846729392291,{"$f":"COUNTIF($C$8:$C$107,H45)-SUM($J$8:J44)","v":2}]
[39,null,10.156000000000001,null,null,39,9.7599999999999838,"<=9,76999999999998",2.0831735032866421,{"$f":"COUNTIF($C$8:$C$107,H46)-SUM($J$8:J45)","v":3}]
[40,null,10.136000000000001,null,null,40,9.7799999999999834,"<=9,78999999999998",2.3360736667104853,{"$f":"COUNTIF($C$8:$C$107,H47)-SUM($J$8:J46)","v":5}]
[41,null,10.215999999999999,null,null,41,9.7999999999999829,"<=9,80999999999998",2.5621323747860045,{"$f":"COUNTIF($C$8:$C$107,H48)-SUM($J$8:J47)","v":4}]
[42,null,9.7900000000000009,null,null,42,9.8199999999999825,"<=9,82999999999998",2.7483404756231953,{"$f":"COUNTIF($C$8:$C$107,H49)-SUM($J$8:J48)","v":2}]
[43,null,9.77,null,null,43,9.8399999999999821,"<=9,84999999999998",2.8833239737908523,{"$f":"COUNTIF($C$8:$C$107,H50)-SUM($J$8:J49)","v":1}]
[44,null,9.7880000000000003,null,null,44,9.8599999999999817,"<=9,86999999999998",2.9584912658245464,{"$f":"COUNTIF($C$8:$C$107,H51)-SUM($J$8:J50)","v":2}]
[45,null,9.766,null,null,45,9.8799999999999812,"<=9,88999999999998",2.9689376649215475,{"$f":"COUNTIF($C$8:$C$107,H52)-SUM($J$8:J51)","v":5}]
[46,null,9.6939999999999991,null,null,46,9.8999999999999808,"<=9,90999999999998",2.9139749002704241,{"$f":"COUNTIF($C$8:$C$107,H53)-SUM($J$8:J52)","v":5}]
[47,null,null,null,null,47,9.9199999999999804,"<=9,92999999999998",2.7972061427098565,{"$f":"COUNTIF($C$8:$C$107,H54)-SUM($J$8:J53)","v":3}]
[48,null,null,null,null,48,9.93999999999998,"<=9,94999999999998",2.6261351906176826,{"$f":"COUNTIF($C$8:$C$107,H55)-SUM($J$8:J54)","v":3}]
[49,null,null,null,null,49,9.9599999999999795,"<=9,96999999999998",2.4113687299707354,{"$f":"COUNTIF($C$8:$C$107,H56)-SUM($J$8:J55)","v":2}]
[50,null,null,null,null,50,9.9799999999999791,"<=9,98999999999998",2.1655295265829713,{"$f":"COUNTIF($C$8:$C$107,H57)-SUM($J$8:J56)","v":0}]
[51,null,null,null,null,51,9.9999999999999787,{"$f":"CONCATENATE(\"<=\",G58)","v":"<=9,99999999999998"},1.9020351295626605,{"$f":"COUNTIF($C$8:$C$107,H58)-SUM($J$8:J57)","v":0}]
[52,null,null,null,null,52,10.019999999999978,"<=10,03",{"$f":"NORMDIST(G59,$C$109,$C$110,FALSE)","v":1.6339053600449867},{"$f":"COUNTIF($C$8:$C$107,H59)-SUM($J$8:J58)","v":0}]
[53,null,null,null,null,53,10.039999999999978,{"$f":"CONCATENATE(\"<=\",G60)","v":"<=10,04"},1.3727428821031888,{"$f":"COUNTIF($C$8:$C$107,H60)-SUM($J$8:J59)","v":0}]
[54,null,null,null,null,54,10.059999999999977,"<=10,07",1.1279905023292196,{"$f":"COUNTIF($C$8:$C$107,H61)-SUM($J$8:J60)","v":0}]
[55,null,null,null,null,55,10.079999999999977,{"$f":"CONCATENATE(\"<=\",G62)","v":"<=10,08"},0.90651631500554686,{"$f":"COUNTIF($C$8:$C$107,H62)-SUM($J$8:J61)","v":0}]
[56,null,null,null,null,56,10.099999999999977,"<=10,11",0.71252440786017768,{"$f":"COUNTIF($C$8:$C$107,H63)-SUM($J$8:J62)","v":0}]
[57,null,null,null,null,57,10.119999999999976,{"$f":"CONCATENATE(\"<=\",G64)","v":"<=10,12"},0.54774422386073585,{"$f":"COUNTIF($C$8:$C$107,H64)-SUM($J$8:J63)","v":0}]
[58,null,null,null,null,58,10.139999999999976,"<=10,15",0.41182224943874984,{"$f":"COUNTIF($C$8:$C$107,H65)-SUM($J$8:J64)","v":1}]
[59,null,null,null,null,59,10.159999999999975,{"$f":"CONCATENATE(\"<=\",G66)","v":"<=10,16"},0.30282780303221574,{"$f":"COUNTIF($C$8:$C$107,H66)-SUM($J$8:J65)","v":1}]
[60,null,null,null,null,60,10.179999999999975,"<=10,19",0.21778884142478361,{"$f":"COUNTIF($C$8:$C$107,H67)-SUM($J$8:J66)","v":0}]
[61,null,null,null,null,61,10.199999999999974,{"$f":"CONCATENATE(\"<=\",G68)","v":"<=10,2"},0.15318965663929451,{"$f":"COUNTIF($C$8:$C$107,H68)-SUM($J$8:J67)","v":1}]
[62,null,null,null,null,62,10.219999999999974,"<=10,23",0.10538461184943977,{"$f":"COUNTIF($C$8:$C$107,H69)-SUM($J$8:J68)","v":2}]
[63,null,null,null,null,63,10.239999999999974,{"$f":"CONCATENATE(\"<=\",G70)","v":"<=10,24"},7.0905332384780473E-2,{"$f":"COUNTIF($C$8:$C$107,H70)-SUM($J$8:J69)","v":0}]
[64,null,null,null,null,64,10.259999999999973,"<=10,27",4.6658904040881966E-2,{"$f":"COUNTIF($C$8:$C$107,H71)-SUM($J$8:J70)","v":0}]
[65,null,null,null,null,65,10.279999999999973,{"$f":"CONCATENATE(\"<=\",G72)","v":"<=10,28"},3.0029223981968056E-2,{"$f":"COUNTIF($C$8:$C$107,H72)-SUM($J$8:J71)","v":0}]
[66,null,null,null,null,66,10.299999999999972,{"$f":"CONCATENATE(\"<=\",G73+(G74-G73)/2)","v":"<=10,31"},1.8901994148159077E-2,{"$f":"COUNTIF($C$8:$C$107,H73)-SUM($J$8:J72)","v":0}]
[67,null,null,null,null,67,{"$f":"G73+$E$5","v":10.319999999999972},{"$f":"CONCATENATE(\"<=\",G74)","v":"<=10,32"},1.1636572478970335E-2,{"$f":"COUNTIF($C$8:$C$107,H74)-SUM($J$8:J73)","v":0}]
[68,null,null,null,null,68,10.339999999999971,"<=10,35",7.0064249241357582E-3,{"$f":"COUNTIF($C$8:$C$107,H75)-SUM($J$8:J74)","v":0}]
[69,null,null,null,null,69,10.359999999999971,{"$f":"CONCATENATE(\"<=\",G76)","v":"<=10,36"},4.1259295302191832E-3,{"$f":"COUNTIF($C$8:$C$107,H76)-SUM($J$8:J75)","v":0}]
[70,null,null,null,null,70,10.379999999999971,"<=10,39",2.3762989644220836E-3,{"$f":"COUNTIF($C$8:$C$107,H77)-SUM($J$8:J76)","v":0}]
[71,null,null,null,null,71,10.39999999999997,{"$f":"CONCATENATE(\"<=\",G78)","v":"<=10,4"},1.3385490520021069E-3,{"$f":"COUNTIF($C$8:$C$107,H78)-SUM($J$8:J77)","v":0}]
[72,null,null,null,null,72,10.41999999999997,"<=10,43",7.374310880093242E-4,{"$f":"COUNTIF($C$8:$C$107,H79)-SUM($J$8:J78)","v":0}]
[73,null,null,null,null,73,10.439999999999969,{"$f":"CONCATENATE(\"<=\",G80)","v":"<=10,44"},3.9734022478975098E-4,{"$f":"COUNTIF($C$8:$C$107,H80)-SUM($J$8:J79)","v":0}]
[74,null,null,null,null,74,10.459999999999969,"<=10,47",2.0939078419330258E-4,{"$f":"COUNTIF($C$8:$C$107,H81)-SUM($J$8:J80)","v":0}]
[75,null,null,null,null,75,10.479999999999968,{"$f":"CONCATENATE(\"<=\",G82)","v":"<=10,48"},1.0792114217971028E-4,{"$f":"COUNTIF($C$8:$C$107,H82)-SUM($J$8:J81)","v":0}]
[76,null,null,null,null,76,10.499999999999968,"<=10,51",5.4401320559101341E-5,{"$f":"COUNTIF($C$8:$C$107,H83)-SUM($J$8:J82)","v":0}]
[77,null,null,null,null,77,10.519999999999968,{"$f":"CONCATENATE(\"<=\",G84)","v":"<=10,52"},2.6820464217041788E-5,{"$f":"COUNTIF($C$8:$C$107,H84)-SUM($J$8:J83)","v":0}]
[78,null,null,null,null,78,10.539999999999967,"<=10,55",1.2932338937427215E-5,{"$f":"COUNTIF($C$8:$C$107,H85)-SUM($J$8:J84)","v":0}]
[79,null,null,null,null,79,10.559999999999967,{"$f":"CONCATENATE(\"<=\",G86)","v":"<=10,56"},6.098763683289557E-6,{"$f":"COUNTIF($C$8:$C$107,H86)-SUM($J$8:J85)","v":0}]
[80,null,null,null,null,80,10.579999999999966,"<=10,59",2.8129400216881177E-6,{"$f":"COUNTIF($C$8:$C$107,H87)-SUM($J$8:J86)","v":0}]
[81,null,null,null,null,81,10.599999999999966,{"$f":"CONCATENATE(\"<=\",G88)","v":"<=10,6"},1.2689165977618951E-6,{"$f":"COUNTIF($C$8:$C$107,H88)-SUM($J$8:J87)","v":0}]
[82,null,null,null,null,82,10.619999999999965,"<=10,63",5.5983445486204371E-7,{"$f":"COUNTIF($C$8:$C$107,H89)-SUM($J$8:J88)","v":0}]
[83,null,null,null,null,83,10.639999999999965,{"$f":"CONCATENATE(\"<=\",G90)","v":"<=10,64"},2.415683919073698E-7,{"$f":"COUNTIF($C$8:$C$107,H90)-SUM($J$8:J89)","v":0}]
[84,null,null,null,null,84,10.659999999999965,"<=10,67",1.019470192821947E-7,{"$f":"COUNTIF($C$8:$C$107,H91)-SUM($J$8:J90)","v":0}]
[85,null,null,null,null,85,10.679999999999964,{"$f":"CONCATENATE(\"<=\",G92)","v":"<=10,68"},4.2078756385206819E-8,{"$f":"COUNTIF($C$8:$C$107,H92)-SUM($J$8:J91)","v":0}]
[86,null,null,null,null,86,10.699999999999964,"<=10,71",1.6986550670605051E-8,{"$f":"COUNTIF($C$8:$C$107,H93)-SUM($J$8:J92)","v":0}]
[87,null,null,null,null,87,10.719999999999963,{"$f":"CONCATENATE(\"<=\",G94)","v":"<=10,72"},6.7065851241772529E-9,{"$f":"COUNTIF($C$8:$C$107,H94)-SUM($J$8:J93)","v":0}]
[88,null,null,null,null,88,10.739999999999963,"<=10,75",2.5897129173666527E-9,{"$f":"COUNTIF($C$8:$C$107,H95)-SUM($J$8:J94)","v":0}]
[89,null,null,null,null,89,10.759999999999962,{"$f":"CONCATENATE(\"<=\",G96)","v":"<=10,76"},9.780380344000671E-10,{"$f":"COUNTIF($C$8:$C$107,H96)-SUM($J$8:J95)","v":0}]
[90,null,null,null,null,90,10.779999999999962,"<=10,79",3.6125494839786618E-10,{"$f":"COUNTIF($C$8:$C$107,H97)-SUM($J$8:J96)","v":0}]
[91,null,null,null,null,91,10.799999999999962,{"$f":"CONCATENATE(\"<=\",G98)","v":"<=10,8"},1.305045954109512E-10,{"$f":"COUNTIF($C$8:$C$107,H98)-SUM($J$8:J97)","v":0}]
[92,null,null,null,null,92,10.819999999999961,"<=10,83",4.6109641318112146E-11,{"$f":"COUNTIF($C$8:$C$107,H99)-SUM($J$8:J98)","v":0}]
[93,null,null,null,null,93,10.839999999999961,{"$f":"CONCATENATE(\"<=\",G100)","v":"<=10,84"},1.5933516065879498E-11,{"$f":"COUNTIF($C$8:$C$107,H100)-SUM($J$8:J99)","v":0}]
[94,null,null,null,null,94,10.85999999999996,"<=10,87",5.3849966900507797E-12,{"$f":"COUNTIF($C$8:$C$107,H101)-SUM($J$8:J100)","v":0}]
[95,null,null,null,null,95,10.87999999999996,{"$f":"CONCATENATE(\"<=\",G102)","v":"<=10,88"},1.7799721127716736E-12,{"$f":"COUNTIF($C$8:$C$107,H102)-SUM($J$8:J101)","v":0}]
[96,null,null,null,null,96,10.899999999999959,"<=10,91",5.7543317331493749E-13,{"$f":"COUNTIF($C$8:$C$107,H103)-SUM($J$8:J102)","v":0}]
[97,null,null,null,null,97,10.919999999999959,{"$f":"CONCATENATE(\"<=\",G104)","v":"<=10,92"},1.8194098069654644E-13,{"$f":"COUNTIF($C$8:$C$107,H104)-SUM($J$8:J103)","v":0}]
[98,null,null,null,null,98,10.939999999999959,"<=10,95",5.6262640045739818E-14,{"$f":"COUNTIF($C$8:$C$107,H105)-SUM($J$8:J104)","v":0}]
[99,null,null,null,null,99,10.959999999999958,{"$f":"CONCATENATE(\"<=\",G106)","v":"<=10,96"},1.7016240772502364E-14,{"$f":"COUNTIF($C$8:$C$107,H106)-SUM($J$8:J105)","v":0}]
[100,null,null,null,null,100,10.979999999999958,"<=10,99",5.0333957312384336E-15,{"$f":"COUNTIF($C$8:$C$107,H107)-SUM($J$8:J106)","v":0}]
[101,null,null,null,null,101,10.999999999999957,{"$f":"CONCATENATE(\"<=\",G108)","v":"<=11"},1.4561713103935971E-15,{"$f":"COUNTIF($C$8:$C$107,H108)-SUM($J$8:J107)","v":0}]
["média",null,{"$f":"AVERAGE(C8:C108)","v":9.8731739130434804}]
["desvio",null,{"$f":"STDEV(C8:C108)*((COUNT(C8:C108)-1)/(COUNT(C8:C108)-2))^0.5","v":0.13419834444647205}]
[0.95,null,{"$f":"C109-1.96*C110","v":9.610145157928395}]
[null,null,{"$f":"C109+1.96*C110","v":10.136202668158566}]
["1300 ppm",null,{"$f":"C109-3*C110","v":9.470578879704064}]
[null,null,{"$f":"C109+3*C110","v":10.275768946382897}]
["Cpk 1,67",null,{"$f":"C109-5*C110","v":9.2021821908111203}]
[null,null,{"$f":"C109+5*C110","v":10.54416563527584}]
[]
["CpI",null,{"$f":"($C$109-$D$5)/(3*$C$110)","v":0.92692130339538559},null,"Resultado"]
["CpS",null,{"$f":"(-$C$109+$C$5)/(3*$C$110)","v":1.5569642818421479},null,{"$f":"IF(C120<1,\"SISTEMA INCAPAZ\",(IF(C120<1.33,\"SISTEMA ACEITÁVEL\",\"SISTEMA CAPAZ\")))","v":"SISTEMA INCAPAZ"}]
["Cpk encontrado",null,{"$f":"MIN(C118:C119)","v":0.92692130339538559}]
[]
["Avaliação"]
["CpK  <1,33","Processo incapaz"]
["CpK  >1 <1,67","Processo aceitável"]
["CpK  >1,67","Processo capaz"]

{"sheet":"Dados Cota C2","index":11,"n_rows":125,"n_cols":10,"rows_kept":125,"cut":false,"hidden":false,"merged":[[117,4,117,5],[118,4,119,5],[121,0,121,2],[122,1,122,2],[123,1,123,2],[124,1,124,2],[2,1,2,2],[110,0,111,0],[112,0,113,0],[114,0,115,0]]}
["Capabilidade do Processo"]
["Item: "]
["Caracteristica:","Capabilidade cota C2 - ø (68,30 ± 0,20) mm"]
[null,null,"LSE","LIE","Passo","Divisões"]
[null,null,68.5,68.099999999999994,{"$f":"(C5-D5)/F5","v":8.0000000000001129E-3},50,"Curva normal"]
["2009-07-24"]
["Cavidade",null,"Medida",null,null,"Número classes","Classes","Condição","Normal","Ocorrências"]
[1,null,68.3,null,null,1,{"$f":"D5-F5*E5/2","v":67.899999999999991},{"$f":"CONCATENATE(\"<=\",G8+(G9-G8)/2)","v":"<=67,904"},{"$f":"NORMDIST(G8,$C$109,$C$110,FALSE)","v":7.8943565377300896E-210},{"$f":"COUNTIF($C$8:$C$108,H8)","v":0}]
[2,null,68.31,null,null,2,{"$f":"G8+$E$5","v":67.907999999999987},{"$f":"CONCATENATE(\"<=\",G9+(G10-G9)/2)","v":"<=67,912"},1.1474965086545129E-201,{"$f":"COUNTIF($C$8:$C$107,H9)-J8","v":0}]
[3,null,68.31,null,null,3,{"$f":"G9+$E$5","v":67.915999999999983},"<=67,92",1.1504113131440465E-193,{"$f":"COUNTIF($C$8:$C$107,H10)-SUM($J$8:J9)","v":0}]
[4,null,68.3,null,null,4,67.923999999999978,"<=67,928",7.9546678462760092E-186,{"$f":"COUNTIF($C$8:$C$107,H11)-SUM($J$8:J10)","v":0}]
[5,null,68.3,null,null,5,67.931999999999974,"<=67,936",3.7936572552431551E-178,{"$f":"COUNTIF($C$8:$C$107,H12)-SUM($J$8:J11)","v":0}]
[6,null,68.3,null,null,6,67.939999999999969,"<=67,944",1.2478467936702821E-170,{"$f":"COUNTIF($C$8:$C$107,H13)-SUM($J$8:J12)","v":0}]
[7,null,68.3,null,null,7,67.947999999999965,"<=67,952",2.8309459569451066E-163,{"$f":"COUNTIF($C$8:$C$107,H14)-SUM($J$8:J13)","v":0}]
[8,null,68.3,null,null,8,67.95599999999996,"<=67,96",4.429646046448778E-156,{"$f":"COUNTIF($C$8:$C$107,H15)-SUM($J$8:J14)","v":0}]
[9,null,68.3,null,null,9,67.963999999999956,"<=67,968",4.7805031249877152E-149,{"$f":"COUNTIF($C$8:$C$107,H16)-SUM($J$8:J15)","v":0}]
[10,null,68.3,null,null,10,67.971999999999952,"<=67,9759999999999",3.5583226318180977E-142,{"$f":"COUNTIF($C$8:$C$107,H17)-SUM($J$8:J16)","v":0}]
[11,null,68.3,null,null,11,67.979999999999947,"<=67,984",1.8267712766685857E-135,{"$f":"COUNTIF($C$8:$C$107,H18)-SUM($J$8:J17)","v":0}]
[12,null,68.3,null,null,12,67.987999999999943,"<=67,9919999999999",6.4683000979030817E-129,{"$f":"COUNTIF($C$8:$C$107,H19)-SUM($J$8:J18)","v":0}]
[13,null,68.3,null,null,13,67.995999999999938,"<=67,9999999999999",1.5796587681540661E-122,{"$f":"COUNTIF($C$8:$C$107,H20)-SUM($J$8:J19)","v":0}]
[14,null,68.31,null,null,14,68.003999999999934,"<=68,0079999999999",2.6607467422641055E-116,{"$f":"COUNTIF($C$8:$C$107,H21)-SUM($J$8:J20)","v":0}]
[15,null,68.31,null,null,15,68.011999999999929,"<=68,0159999999999",3.0910848798965719E-110,{"$f":"COUNTIF($C$8:$C$107,H22)-SUM($J$8:J21)","v":0}]
[16,null,68.34,null,null,16,68.019999999999925,"<=68,0239999999999",2.4767687389956115E-104,{"$f":"COUNTIF($C$8:$C$107,H23)-SUM($J$8:J22)","v":0}]
[17,null,68.31,null,null,17,68.027999999999921,"<=68,0319999999999",1.3687594143979568E-98,{"$f":"COUNTIF($C$8:$C$107,H24)-SUM($J$8:J23)","v":0}]
[18,null,68.34,null,null,18,68.035999999999916,"<=68,0399999999999",5.217181145856674E-93,{"$f":"COUNTIF($C$8:$C$107,H25)-SUM($J$8:J24)","v":0}]
[19,null,68.3,null,null,19,68.043999999999912,"<=68,0479999999999",1.3715506428028804E-87,{"$f":"COUNTIF($C$8:$C$107,H26)-SUM($J$8:J25)","v":0}]
[20,null,68.3,null,null,20,68.051999999999907,"<=68,0559999999999",2.4868804884344343E-82,{"$f":"COUNTIF($C$8:$C$107,H27)-SUM($J$8:J26)","v":0}]
[21,null,68.3,null,null,21,68.059999999999903,"<=68,0639999999999",3.1100338570329599E-77,{"$f":"COUNTIF($C$8:$C$107,H28)-SUM($J$8:J27)","v":0}]
[22,null,68.319999999999993,null,null,22,68.067999999999898,"<=68,0719999999999",2.6825168213499277E-72,{"$f":"COUNTIF($C$8:$C$107,H29)-SUM($J$8:J28)","v":0}]
[23,null,68.3,null,null,23,68.075999999999894,"<=68,0799999999999",1.5958311059265483E-67,{"$f":"COUNTIF($C$8:$C$107,H30)-SUM($J$8:J29)","v":0}]
[24,null,68.31,null,null,24,68.083999999999889,"<=68,0879999999999",6.5478471551860751E-63,{"$f":"COUNTIF($C$8:$C$107,H31)-SUM($J$8:J30)","v":0}]
[25,null,68.3,null,null,25,68.091999999999885,"<=68,0959999999999",1.8530079194297941E-58,{"$f":"COUNTIF($C$8:$C$107,H32)-SUM($J$8:J31)","v":0}]
[26,null,68.31,null,null,26,68.099999999999881,"<=68,1039999999999",3.6167888291825336E-54,{"$f":"COUNTIF($C$8:$C$107,H33)-SUM($J$8:J32)","v":0}]
[27,null,68.3,null,null,27,68.107999999999876,"<=68,1119999999999",4.8689595320849701E-50,{"$f":"COUNTIF($C$8:$C$107,H34)-SUM($J$8:J33)","v":0}]
[28,null,68.3,null,null,28,68.115999999999872,"<=68,1199999999999",4.5208105971042374E-46,{"$f":"COUNTIF($C$8:$C$107,H35)-SUM($J$8:J34)","v":0}]
[29,null,68.34,null,null,29,68.123999999999867,"<=68,1279999999999",2.8951001690896935E-42,{"$f":"COUNTIF($C$8:$C$107,H36)-SUM($J$8:J35)","v":0}]
[30,null,68.31,null,null,30,68.131999999999863,"<=68,1359999999999",1.2787275207481599E-38,{"$f":"COUNTIF($C$8:$C$107,H37)-SUM($J$8:J36)","v":0}]
[31,null,68.3,null,null,31,68.139999999999858,"<=68,1439999999999",3.8954673141982392E-35,{"$f":"COUNTIF($C$8:$C$107,H38)-SUM($J$8:J37)","v":0}]
[32,null,68.31,null,null,32,68.147999999999854,"<=68,1519999999998",8.1848034026141921E-32,{"$f":"COUNTIF($C$8:$C$107,H39)-SUM($J$8:J38)","v":0}]
[33,null,68.3,null,null,33,68.15599999999985,"<=68,1599999999999",1.1861075621540443E-28,{"$f":"COUNTIF($C$8:$C$107,H40)-SUM($J$8:J39)","v":0}]
[34,null,68.3,null,null,34,68.163999999999845,"<=68,1679999999998",1.185514942943384E-25,{"$f":"COUNTIF($C$8:$C$107,H41)-SUM($J$8:J40)","v":0}]
[35,null,68.31,null,null,35,68.171999999999841,"<=68,1759999999998",8.1725413224336919E-23,{"$f":"COUNTIF($C$8:$C$107,H42)-SUM($J$8:J41)","v":0}]
[36,null,68.3,null,null,36,68.179999999999836,"<=68,1839999999998",3.8857455016344279E-20,{"$f":"COUNTIF($C$8:$C$107,H43)-SUM($J$8:J42)","v":0}]
[37,null,68.319999999999993,null,null,37,68.187999999999832,"<=68,1919999999998",1.2742619518647491E-17,{"$f":"COUNTIF($C$8:$C$107,H44)-SUM($J$8:J43)","v":0}]
[38,null,68.31,null,null,38,68.195999999999827,"<=68,1999999999998",2.8821077522060079E-15,{"$f":"COUNTIF($C$8:$C$107,H45)-SUM($J$8:J44)","v":0}]
[39,null,68.319999999999993,null,null,39,68.203999999999823,"<=68,2079999999998",4.4960263358185045E-13,{"$f":"COUNTIF($C$8:$C$107,H46)-SUM($J$8:J45)","v":0}]
[40,null,68.3,null,null,40,68.211999999999819,"<=68,2159999999998",4.8374291180712726E-11,{"$f":"COUNTIF($C$8:$C$107,H47)-SUM($J$8:J46)","v":0}]
[41,null,68.3,null,null,41,68.219999999999814,"<=68,2239999999998",3.5897773866218375E-9,{"$f":"COUNTIF($C$8:$C$107,H48)-SUM($J$8:J47)","v":0}]
[42,null,68.31,null,null,42,68.22799999999981,"<=68,2319999999998",1.8373316467015474E-7,{"$f":"COUNTIF($C$8:$C$107,H49)-SUM($J$8:J48)","v":0}]
[43,null,68.33,null,null,43,68.235999999999805,"<=68,2399999999998",6.4859669092682371E-6,{"$f":"COUNTIF($C$8:$C$107,H50)-SUM($J$8:J49)","v":0}]
[44,null,68.33,null,null,44,68.243999999999801,"<=68,2479999999998",1.5791705519935896E-4,{"$f":"COUNTIF($C$8:$C$107,H51)-SUM($J$8:J50)","v":0}]
[45,null,68.349999999999994,null,null,45,68.251999999999796,"<=68,2559999999998",2.6518593125658746E-3,{"$f":"COUNTIF($C$8:$C$107,H52)-SUM($J$8:J51)","v":0}]
[46,null,68.3,null,null,46,68.259999999999792,"<=68,2639999999998",3.0714189415606614E-2,{"$f":"COUNTIF($C$8:$C$107,H53)-SUM($J$8:J52)","v":0}]
[47,null,68.3,null,null,47,68.267999999999788,"<=68,2719999999998",0.24535492024656913,{"$f":"COUNTIF($C$8:$C$107,H54)-SUM($J$8:J53)","v":0}]
[48,null,68.31,null,null,48,68.275999999999783,"<=68,2799999999998",1.351816116770703,{"$f":"COUNTIF($C$8:$C$107,H55)-SUM($J$8:J54)","v":0}]
[49,null,null,null,null,49,68.283999999999779,"<=68,2879999999998",5.1369767883128636,{"$f":"COUNTIF($C$8:$C$107,H56)-SUM($J$8:J55)","v":0}]
[50,null,null,null,null,50,68.291999999999774,"<=68,2959999999998",13.463709168556031,{"$f":"COUNTIF($C$8:$C$107,H57)-SUM($J$8:J56)","v":0}]
[51,null,null,null,null,51,68.29999999999977,{"$f":"CONCATENATE(\"<=\",G58)","v":"<=68,2999999999998"},24.33822912546864,{"$f":"COUNTIF($C$8:$C$107,H58)-SUM($J$8:J57)","v":0}]
[52,null,null,null,null,52,68.307999999999765,"<=68,3119999999998",30.344526416769487,{"$f":"COUNTIF($C$8:$C$107,H59)-SUM($J$8:J58)","v":39}]
[53,null,null,null,null,53,68.315999999999761,{"$f":"CONCATENATE(\"<=\",G60)","v":"<=68,3159999999998"},26.093893620299177,{"$f":"COUNTIF($C$8:$C$107,H60)-SUM($J$8:J59)","v":0}]
[54,null,null,null,null,54,68.323999999999756,"<=68,3279999999997",15.476207579126111,{"$f":"COUNTIF($C$8:$C$107,H61)-SUM($J$8:J60)","v":3}]
[55,null,null,null,null,55,68.331999999999752,{"$f":"CONCATENATE(\"<=\",G62)","v":"<=68,3319999999998"},6.3307817234542521,{"$f":"COUNTIF($C$8:$C$107,H62)-SUM($J$8:J61)","v":2}]
[56,null,null,null,null,56,68.339999999999748,"<=68,3439999999997",1.7861472887072314,{"$f":"COUNTIF($C$8:$C$107,H63)-SUM($J$8:J62)","v":3}]
[57,null,null,null,null,57,68.347999999999743,{"$f":"CONCATENATE(\"<=\",G64)","v":"<=68,3479999999997"},0.34757163952460601,{"$f":"COUNTIF($C$8:$C$107,H64)-SUM($J$8:J63)","v":0}]
[58,null,null,null,null,58,68.355999999999739,"<=68,3599999999997",4.6648591082730125E-2,{"$f":"COUNTIF($C$8:$C$107,H65)-SUM($J$8:J64)","v":1}]
[59,null,null,null,null,59,68.363999999999734,{"$f":"CONCATENATE(\"<=\",G66)","v":"<=68,3639999999997"},4.3181712869534592E-3,{"$f":"COUNTIF($C$8:$C$107,H66)-SUM($J$8:J65)","v":0}]
[60,null,null,null,null,60,68.37199999999973,"<=68,3759999999997",2.7569464733673347E-4,{"$f":"COUNTIF($C$8:$C$107,H67)-SUM($J$8:J66)","v":0}]
[61,null,null,null,null,61,68.379999999999725,{"$f":"CONCATENATE(\"<=\",G68)","v":"<=68,3799999999997"},1.2140146799924759E-5,{"$f":"COUNTIF($C$8:$C$107,H68)-SUM($J$8:J67)","v":0}]
[62,null,null,null,null,62,68.387999999999721,"<=68,3919999999997",3.6871149495015708E-7,{"$f":"COUNTIF($C$8:$C$107,H69)-SUM($J$8:J68)","v":0}]
[63,null,null,null,null,63,68.395999999999717,{"$f":"CONCATENATE(\"<=\",G70)","v":"<=68,3959999999997"},7.7235426929242739E-9,{"$f":"COUNTIF($C$8:$C$107,H70)-SUM($J$8:J69)","v":0}]
[64,null,null,null,null,64,68.403999999999712,"<=68,4079999999997",1.1158698943835076E-10,{"$f":"COUNTIF($C$8:$C$107,H71)-SUM($J$8:J70)","v":0}]
[65,null,null,null,null,65,68.411999999999708,{"$f":"CONCATENATE(\"<=\",G72)","v":"<=68,4119999999997"},{"$f":"NORMDIST(G72,$C$109,$C$110,FALSE)","v":1.1119306585537696E-12},{"$f":"COUNTIF($C$8:$C$107,H72)-SUM($J$8:J71)","v":0}]
[66,null,null,null,null,66,68.419999999999703,{"$f":"CONCATENATE(\"<=\",G73+(G74-G73)/2)","v":"<=68,4239999999997"},7.6420343279034484E-15,{"$f":"COUNTIF($C$8:$C$107,H73)-SUM($J$8:J72)","v":0}]
[67,null,null,null,null,67,{"$f":"G73+$E$5","v":68.427999999999699},{"$f":"CONCATENATE(\"<=\",G74)","v":"<=68,4279999999997"},3.6224916955100834E-17,{"$f":"COUNTIF($C$8:$C$107,H74)-SUM($J$8:J73)","v":0}]
[68,null,null,null,null,68,68.435999999999694,"<=68,4399999999997",1.1843305930712706E-19,{"$f":"COUNTIF($C$8:$C$107,H75)-SUM($J$8:J74)","v":0}]
[69,null,null,null,null,69,68.44399999999969,{"$f":"CONCATENATE(\"<=\",G76)","v":"<=68,4439999999997"},2.6705802466254612E-22,{"$f":"COUNTIF($C$8:$C$107,H76)-SUM($J$8:J75)","v":0}]
[70,null,null,null,null,70,68.451999999999686,"<=68,4559999999997",4.1534161936907336E-25,{"$f":"COUNTIF($C$8:$C$107,H77)-SUM($J$8:J76)","v":0}]
[71,null,null,null,null,71,68.459999999999681,{"$f":"CONCATENATE(\"<=\",G78)","v":"<=68,4599999999997"},4.4552533596617536E-28,{"$f":"COUNTIF($C$8:$C$107,H78)-SUM($J$8:J77)","v":0}]
[72,null,null,null,null,72,68.467999999999677,"<=68,4719999999997",3.2961464234858864E-31,{"$f":"COUNTIF($C$8:$C$107,H79)-SUM($J$8:J78)","v":0}]
[73,null,null,null,null,73,68.475999999999672,{"$f":"CONCATENATE(\"<=\",G80)","v":"<=68,4759999999997"},1.6819292393610801E-34,{"$f":"COUNTIF($C$8:$C$107,H80)-SUM($J$8:J79)","v":0}]
[74,null,null,null,null,74,68.483999999999668,"<=68,4879999999997",5.9193780847830219E-38,{"$f":"COUNTIF($C$8:$C$107,H81)-SUM($J$8:J80)","v":0}]
[75,null,null,null,null,75,68.491999999999663,{"$f":"CONCATENATE(\"<=\",G82)","v":"<=68,4919999999997"},1.4368504721367841E-41,{"$f":"COUNTIF($C$8:$C$107,H82)-SUM($J$8:J81)","v":0}]
[76,null,null,null,null,76,68.499999999999659,"<=68,5039999999996",2.4055489838786695E-45,{"$f":"COUNTIF($C$8:$C$107,H83)-SUM($J$8:J82)","v":0}]
[77,null,null,null,null,77,68.507999999999655,{"$f":"CONCATENATE(\"<=\",G84)","v":"<=68,5079999999997"},2.777691242978681E-49,{"$f":"COUNTIF($C$8:$C$107,H84)-SUM($J$8:J83)","v":0}]
[78,null,null,null,null,78,68.51599999999965,"<=68,5199999999996",2.2121820778826583E-53,{"$f":"COUNTIF($C$8:$C$107,H85)-SUM($J$8:J84)","v":0}]
[79,null,null,null,null,79,68.523999999999646,{"$f":"CONCATENATE(\"<=\",G86)","v":"<=68,5239999999996"},1.2151360472442213E-57,{"$f":"COUNTIF($C$8:$C$107,H86)-SUM($J$8:J85)","v":0}]
[80,null,null,null,null,80,68.531999999999641,"<=68,5359999999996",4.6035840264856268E-62,{"$f":"COUNTIF($C$8:$C$107,H87)-SUM($J$8:J86)","v":0}]
[81,null,null,null,null,81,68.539999999999637,{"$f":"CONCATENATE(\"<=\",G88)","v":"<=68,5399999999996"},1.2029134463545964E-66,{"$f":"COUNTIF($C$8:$C$107,H88)-SUM($J$8:J87)","v":0}]
[82,null,null,null,null,82,68.547999999999632,"<=68,5519999999996",2.1679028665180349E-71,{"$f":"COUNTIF($C$8:$C$107,H89)-SUM($J$8:J88)","v":0}]
[83,null,null,null,null,83,68.555999999999628,{"$f":"CONCATENATE(\"<=\",G90)","v":"<=68,5559999999996"},2.6947122383452161E-76,{"$f":"COUNTIF($C$8:$C$107,H90)-SUM($J$8:J89)","v":0}]
[84,null,null,null,null,84,68.563999999999623,"<=68,5679999999996",2.3102134339677606E-81,{"$f":"COUNTIF($C$8:$C$107,H91)-SUM($J$8:J90)","v":0}]
[85,null,null,null,null,85,68.571999999999619,{"$f":"CONCATENATE(\"<=\",G92)","v":"<=68,5719999999996"},1.3660259519501358E-86,{"$f":"COUNTIF($C$8:$C$107,H92)-SUM($J$8:J91)","v":0}]
[86,null,null,null,null,86,68.579999999999615,"<=68,5839999999996",5.5709970759277744E-92,{"$f":"COUNTIF($C$8:$C$107,H93)-SUM($J$8:J92)","v":0}]
[87,null,null,null,null,87,68.58799999999961,{"$f":"CONCATENATE(\"<=\",G94)","v":"<=68,5879999999996"},1.5670182190697561E-97,{"$f":"COUNTIF($C$8:$C$107,H94)-SUM($J$8:J93)","v":0}]
[88,null,null,null,null,88,68.595999999999606,"<=68,5999999999996",3.0400609879409022E-103,{"$f":"COUNTIF($C$8:$C$107,H95)-SUM($J$8:J94)","v":0}]
[89,null,null,null,null,89,68.603999999999601,{"$f":"CONCATENATE(\"<=\",G96)","v":"<=68,6039999999996"},4.0677821075852195E-109,{"$f":"COUNTIF($C$8:$C$107,H96)-SUM($J$8:J95)","v":0}]
[90,null,null,null,null,90,68.611999999999597,"<=68,6159999999996",3.7540512926675945E-115,{"$f":"COUNTIF($C$8:$C$107,H97)-SUM($J$8:J96)","v":0}]
[91,null,null,null,null,91,68.619999999999592,{"$f":"CONCATENATE(\"<=\",G98)","v":"<=68,6199999999996"},2.3895155317845288E-121,{"$f":"COUNTIF($C$8:$C$107,H98)-SUM($J$8:J97)","v":0}]
[92,null,null,null,null,92,68.627999999999588,"<=68,6319999999996",1.0490269567736932E-127,{"$f":"COUNTIF($C$8:$C$107,H99)-SUM($J$8:J98)","v":0}]
[93,null,null,null,null,93,68.635999999999584,{"$f":"CONCATENATE(\"<=\",G100)","v":"<=68,6359999999996"},3.1763662586645936E-134,{"$f":"COUNTIF($C$8:$C$107,H100)-SUM($J$8:J99)","v":0}]
[94,null,null,null,null,94,68.643999999999579,"<=68,6479999999996",6.6334832176379216E-141,{"$f":"COUNTIF($C$8:$C$107,H101)-SUM($J$8:J100)","v":0}]
[95,null,null,null,null,95,68.651999999999575,{"$f":"CONCATENATE(\"<=\",G102)","v":"<=68,6519999999996"},9.554761050148478E-148,{"$f":"COUNTIF($C$8:$C$107,H102)-SUM($J$8:J101)","v":0}]
[96,null,null,null,null,96,68.65999999999957,"<=68,6639999999996",9.4921624308232188E-155,{"$f":"COUNTIF($C$8:$C$107,H103)-SUM($J$8:J102)","v":0}]
[97,null,null,null,null,97,68.667999999999566,{"$f":"CONCATENATE(\"<=\",G104)","v":"<=68,6679999999996"},6.5039564884160258E-162,{"$f":"COUNTIF($C$8:$C$107,H104)-SUM($J$8:J103)","v":0}]
[98,null,null,null,null,98,68.675999999999561,"<=68,6799999999996",3.0736699276773375E-169,{"$f":"COUNTIF($C$8:$C$107,H105)-SUM($J$8:J104)","v":0}]
[99,null,null,null,null,99,68.683999999999557,{"$f":"CONCATENATE(\"<=\",G106)","v":"<=68,6839999999996"},1.0018529101076194E-176,{"$f":"COUNTIF($C$8:$C$107,H106)-SUM($J$8:J105)","v":0}]
[100,null,null,null,null,100,68.691999999999553,"<=68,6959999999995",2.2522564277903375E-184,{"$f":"COUNTIF($C$8:$C$107,H107)-SUM($J$8:J106)","v":0}]
[101,null,null,null,null,101,68.699999999999548,{"$f":"CONCATENATE(\"<=\",G108)","v":"<=68,6999999999995"},3.4921978538315499E-192,{"$f":"COUNTIF($C$8:$C$107,H108)-SUM($J$8:J107)","v":0}]
["média",null,{"$f":"AVERAGE(C8:C108)","v":68.308750000000003}]
["desvio",null,{"$f":"STDEV(C8:C108)*((COUNT(C8:C108)-1)/(COUNT(C8:C108)-2))^0.5","v":1.3125646981984261E-2}]
[0.95,null,{"$f":"C109-1.96*C110","v":68.283023731915321}]
[null,null,{"$f":"C109+1.96*C110","v":68.334476268084686}]
["1300 ppm",null,{"$f":"C109-3*C110","v":68.269373059054047}]
[null,null,{"$f":"C109+3*C110","v":68.34812694094596}]
["Cpk 1,67",null,{"$f":"C109-5*C110","v":68.243121765090081}]
[null,null,{"$f":"C109+5*C110","v":68.374378234909926}]
[]
["CpI",null,{"$f":"($C$109-$D$5)/(3*$C$110)","v":5.3013259787379372},null,"Resultado"]
["CpS",null,{"$f":"(-$C$109+$C$5)/(3*$C$110)","v":4.8569034415979324},null,{"$f":"IF(C120<1,\"SISTEMA INCAPAZ\",(IF(C120<1.33,\"SISTEMA ACEITÁVEL\",\"SISTEMA CAPAZ\")))","v":"SISTEMA CAPAZ"}]
["Cpk encontrado",null,{"$f":"MIN(C118:C119)","v":4.8569034415979324}]
[]
["Avaliação"]
["CpK  <1,33","Processo incapaz"]
["CpK  >1 <1,67","Processo aceitável"]
["CpK  >1,67","Processo capaz"]